BEGIN:VCALENDAR
VERSION:2.0
PRODID:-//Patriot Guard Riders - ECPv5.6.0//NONSGML v1.0//EN
CALSCALE:GREGORIAN
METHOD:PUBLISH
X-WR-CALNAME:Patriot Guard Riders
X-ORIGINAL-URL:https://www.patriotguard.org
X-WR-CALDESC:Events for Patriot Guard Riders
BEGIN:VTIMEZONE
TZID:America/New_York
BEGIN:DAYLIGHT
TZOFFSETFROM:-0500
TZOFFSETTO:-0400
TZNAME:EDT
DTSTART:20140309T070000
END:DAYLIGHT
BEGIN:STANDARD
TZOFFSETFROM:-0400
TZOFFSETTO:-0500
TZNAME:EST
DTSTART:20141102T060000
END:STANDARD
END:VTIMEZONE
BEGIN:VEVENT
DTSTART;TZID=America/New_York:20141009T090000
DTEND;TZID=America/New_York:20141009T110000
DTSTAMP:20210512T082422
CREATED:20141009T130000Z
LAST-MODIFIED:20191201T131553Z
UID:399036-1412845200-1412852400@www.patriotguard.org
SUMMARY:Donald L. Moore\, USA
DESCRIPTION:Donald L. Moore\, SSG\n\n\n\nUnited States Army\n\n\n9 October 2014 – \n\n\n\nAtchison\, Kansas\n\n\n \n \nThe  family of Donald L. Moore has requested that the Patriot Guard Riders  honor their loved one by manning a flag line for his services and then  escorting him to his final resting place in Atchison\, Kansas \nSSG Moore was a veteran of the Korean War and was a communication specialist.  His last duty assignment was with D Battery\, 2nd Howitzer Battalion in the 10th Artillery Division. \nServices will be at Arensburg Pruett Funeral Home with interment at Sunset Memory Gardens.  Both are located in Atchison\, KS.\n \n \nStaging: 9 Oct 14 —TOMORROW\n0930 hrs. (9:30 am) – Stage Set Flags at Arensburg Pruett Funeral Home\, 208 N. 5th St.\, Atchison\, KS\n0945 hrs. (9:45 am) – Man Flag Line\n1000 hrs. (10:30 am) – Service \n1100 hrs. (11:00 am) Approx. – Escort to Sunset Memory Gardens\, 800 Kansas Avenue\, Atchison\, KS\n \nYour Ride Captains for this mission will be;\nNancy (PeeWee) and Bill (Kayak) Cassity\nnjcassi@embarqmail.com\n785-766-7247
URL:https://www.patriotguard.org/mission/donald-l-moore-usa/
CATEGORIES:Archive
END:VEVENT
END:VCALENDAR