BEGIN:VCALENDAR
VERSION:2.0
PRODID:-//Patriot Guard Riders - ECPv5.3.2.1//NONSGML v1.0//EN
CALSCALE:GREGORIAN
METHOD:PUBLISH
X-WR-CALNAME:Patriot Guard Riders
X-ORIGINAL-URL:https://www.patriotguard.org
X-WR-CALDESC:Events for Patriot Guard Riders
BEGIN:VTIMEZONE
TZID:America/New_York
BEGIN:DAYLIGHT
TZOFFSETFROM:-0500
TZOFFSETTO:-0400
TZNAME:EDT
DTSTART:20190310T070000
END:DAYLIGHT
BEGIN:STANDARD
TZOFFSETFROM:-0400
TZOFFSETTO:-0500
TZNAME:EST
DTSTART:20191103T060000
END:STANDARD
END:VTIMEZONE
BEGIN:VEVENT
DTSTART;VALUE=DATE:20190810
DTEND;VALUE=DATE:20190811
DTSTAMP:20210402T144703
CREATED:20190809T155118Z
LAST-MODIFIED:20190809T155118Z
UID:169934-1565395200-1565481599@www.patriotguard.org
SUMMARY:Donald L Joseph
DESCRIPTION:Honor Mission\nDonald L Joseph\, Retired\, Veteran\nUSA\nClearfield\, Utah – 08-10-19\n\n\n\nABOUT THE MISSION: \nThe Patriot Guard Riders have been requested to stand a flag line for SGT Donald L Joseph.SGT Donald L Joseph served in the U.S. Army 2003 to ‘07.\n\n\nPRIMARY STAGING DETAILS: 08-10-19 \nStaging Time: 3:30 pm\n \nMaverik\n390 E 1700 S\nClearfield\, Utah\n\n\nRide Captain: \nPaul Rahn\n775-354-4241\n\n\nSpecial Instructions: \nKSU: 4:00 PMWeather: Sunny with a 10% chance of showers and a high of 90. Please dress accordingly and keep yourself hydrated.\n\nThis will be an escort format. We will stand a flag corridor at the family home and then escort SGT Donald L Joseph to Courtyard Marriott on 1803 Woodland Park Dr in Layton\, where we will stand another flag corridor.\nAnyone attending in a cage and willing to transport flags please contact Paul Rahn at: 775-354-4241..\n\n\nFlags & Water:\nFlags will be provided\nIf you have large bike flags\, please bring them.\nWater WILL NOT be provided\, please bring your own.\n\nSubmitted By: Dave Richardson \nPosition: Utah State Captain \n\nNote: You do not have to own/ride a motorcycle or be a veteran to join\, and membership is Free. The only requirement is RESPECT! To subscribe to receive mission notices\, log into the National Site and click on the Members tab at the top. Select the Subscribe to PGR Missions option.\n Print This Page
URL:https://www.patriotguard.org/mission/donald-l-joseph/
CATEGORIES:Honor Mission
END:VEVENT
END:VCALENDAR