BEGIN:VCALENDAR
VERSION:2.0
PRODID:-//Patriot Guard Riders - ECPv5.3.2.1//NONSGML v1.0//EN
CALSCALE:GREGORIAN
METHOD:PUBLISH
X-WR-CALNAME:Patriot Guard Riders
X-ORIGINAL-URL:https://www.patriotguard.org
X-WR-CALDESC:Events for Patriot Guard Riders
BEGIN:VTIMEZONE
TZID:America/New_York
BEGIN:DAYLIGHT
TZOFFSETFROM:-0500
TZOFFSETTO:-0400
TZNAME:EDT
DTSTART:20190310T070000
END:DAYLIGHT
BEGIN:STANDARD
TZOFFSETFROM:-0400
TZOFFSETTO:-0500
TZNAME:EST
DTSTART:20191103T060000
END:STANDARD
END:VTIMEZONE
BEGIN:VEVENT
DTSTART;VALUE=DATE:20190912
DTEND;VALUE=DATE:20190913
DTSTAMP:20210401T080240
CREATED:20190911T182924Z
LAST-MODIFIED:20190911T182924Z
UID:173537-1568246400-1568332799@www.patriotguard.org
SUMMARY:Donald L. Harrell
DESCRIPTION:Honor Mission\nDonald L. Harrell\, Veteran\nUSAF\nSt. Louis\, Missouri – 09-12-19\n\n\n\n\nABOUT THE MISSION: \nPlease join us in standing for Donald L. Harrell\, just as he once stood for every one of us.  Hero Harrell served from 1961 thru 1966 in the U.S.A.F.  In addition to protecting his country and preserving its freedoms\, Mr. Harrell earned the Air Force Good Conduct Medal\, and the 1964 USAF Longevity Service Award.\n\n\nPRIMARY STAGING DETAILS: 09-12-19 \nStaging Time: 11:30 am\n \nHopewell Missionary Baptist Church\n915 N. Taylor Ave\nSt. Louis\, Missouri 63108\n\n\nRide Captain: \nJeff ‘Tattoo’ Hirsch\njeff.stlpgr@gmail.com\n\n\nSpecial Instructions: \n11:30 am – Staging w/ flag line to follow\n12:30 pm – Funeral service\n1:15 pm – Honor escort to Jefferson Barracks National Cemetery\n2:00 pm – Military Honors\nFlags / Support – Don “Juan” Vaughn\n\nFlags & Water:\nFlags will be provided\nIf you have large bike flags\, please bring them.\nWater will be provided.\n\n\n\n\nSubmitted By: Jeff Hirsch \nPosition: Missouri Ride Captain \n\nNote: You do not have to own/ride a motorcycle or be a veteran to join\, and membership is Free. The only requirement is RESPECT! To subscribe to receive mission notices\, log into the National Site and click on the Members tab at the top. Select the Subscribe to PGR Missions option.\n Print This Page
URL:https://www.patriotguard.org/mission/donald-l-harrell/
CATEGORIES:Honor Mission
END:VEVENT
END:VCALENDAR