BEGIN:VCALENDAR
VERSION:2.0
PRODID:-//Patriot Guard Riders - ECPv5.6.0//NONSGML v1.0//EN
CALSCALE:GREGORIAN
METHOD:PUBLISH
X-WR-CALNAME:Patriot Guard Riders
X-ORIGINAL-URL:https://www.patriotguard.org
X-WR-CALDESC:Events for Patriot Guard Riders
BEGIN:VTIMEZONE
TZID:America/New_York
BEGIN:DAYLIGHT
TZOFFSETFROM:-0500
TZOFFSETTO:-0400
TZNAME:EDT
DTSTART:20160313T070000
END:DAYLIGHT
BEGIN:STANDARD
TZOFFSETFROM:-0400
TZOFFSETTO:-0500
TZNAME:EST
DTSTART:20161106T060000
END:STANDARD
END:VTIMEZONE
BEGIN:VEVENT
DTSTART;TZID=America/New_York:20160622T090000
DTEND;TZID=America/New_York:20160622T110000
DTSTAMP:20210513T132324
CREATED:20160622T130000Z
LAST-MODIFIED:20191201T144934Z
UID:411152-1466586000-1466593200@www.patriotguard.org
SUMMARY:Donald L. Burris\, USN Veteran
DESCRIPTION:The family of Donald L. Burris has requested the PGR at his Service. \nDonald L. Burris served in the United States Navy from Dec 1955 to Dec 1957. He was employed with the Windsor and Lake Ozark Police Department and Moniteau County. \nThe family has requested a flag line at the visitation of their loved one on Wednesday June 22nd at 1pm (1300hrs) till 2pm (1400hrs). \nServices from 2pm (1400hrs) to 3pm (1500hrs) at:\nPhillips Funeral Home\n5 South Oak Street\nEldon\, MO. \nThey have requested an escort\, with police escort to the edge of town\, to the Greenmore Memorial Gardens in Barnett\, MO. Full Military Honors will be rendered during the services grave side. \nWe will have the mission briefing at 12:30 hours at the Phillips Funeral Home at 5 South Oak Street Eldon\, MO \nRide Captain:\nJohn Morlock\n(573) 280-3240
URL:https://www.patriotguard.org/mission/donald-l-burris-usn-veteran/
CATEGORIES:Archive
END:VEVENT
END:VCALENDAR