BEGIN:VCALENDAR
VERSION:2.0
PRODID:-//Patriot Guard Riders - ECPv5.3.2.1//NONSGML v1.0//EN
CALSCALE:GREGORIAN
METHOD:PUBLISH
X-WR-CALNAME:Patriot Guard Riders
X-ORIGINAL-URL:https://www.patriotguard.org
X-WR-CALDESC:Events for Patriot Guard Riders
BEGIN:VTIMEZONE
TZID:America/New_York
BEGIN:DAYLIGHT
TZOFFSETFROM:-0500
TZOFFSETTO:-0400
TZNAME:EDT
DTSTART:20190310T070000
END:DAYLIGHT
BEGIN:STANDARD
TZOFFSETFROM:-0400
TZOFFSETTO:-0500
TZNAME:EST
DTSTART:20191103T060000
END:STANDARD
END:VTIMEZONE
BEGIN:VEVENT
DTSTART;VALUE=DATE:20190429
DTEND;VALUE=DATE:20190430
DTSTAMP:20210401T201914
CREATED:20190427T112112Z
LAST-MODIFIED:20190427T112218Z
UID:158855-1556496000-1556582399@www.patriotguard.org
SUMMARY:Donald Janeski Sr.
DESCRIPTION:Honor Mission\nDonald Janeski Sr.\, Veteran\nUSN – WWII\nIndependence\, Missouri – 04-29-19\n\n\n\nABOUT THE MISSION: \nThe family of Hero Donald Janeski Sr. has invited the Patriot Guard to stand a flag line at his service and visitation and then escort him to his final resting place. It’s our honor to do so.\n\n\nPRIMARY STAGING DETAILS: 04-29-19 \nStaging Time: 10:15 AM\n \nSoul’s Harbour Assembly of God\n17142 E. 39th Street\nIndependence\, Missouri 64055\n\n\nRide Captain: \nEdward Humphries\n816-825-4246\nsportsfreaked@att.net\n\n\nSpecial Instructions: \nStage @ 10:15 a.m\nRide meeting @ 10:30\nVisitation 11 a.m-1 p.m.\nService @ 1 p.m\nEscort following service to Mound Grove Cemetery in Independence.\n\n\nFlags & Water:\nFlags will be provided\nIf you have large bike flags\, please bring them.\nWater WILL NOT be provided\, please bring your own.\n\n\n\nSubmitted By: Edward Humphries \nPosition: Missouri Ride Captain \n\nNote: You do not have to own/ride a motorcycle or be a veteran to join\, and membership is Free. The only requirement is RESPECT! To subscribe to receive mission notices\, log into the National Site and click on the Members tab at the top. Select the Subscribe to PGR Missions option.\n Print This Page
URL:https://www.patriotguard.org/mission/donald-janeski-sr/
CATEGORIES:Honor Mission
END:VEVENT
END:VCALENDAR