BEGIN:VCALENDAR
VERSION:2.0
PRODID:-//Patriot Guard Riders - ECPv5.3.2.1//NONSGML v1.0//EN
CALSCALE:GREGORIAN
METHOD:PUBLISH
X-WR-CALNAME:Patriot Guard Riders
X-ORIGINAL-URL:https://www.patriotguard.org
X-WR-CALDESC:Events for Patriot Guard Riders
BEGIN:VTIMEZONE
TZID:America/New_York
BEGIN:DAYLIGHT
TZOFFSETFROM:-0500
TZOFFSETTO:-0400
TZNAME:EDT
DTSTART:20190310T070000
END:DAYLIGHT
BEGIN:STANDARD
TZOFFSETFROM:-0400
TZOFFSETTO:-0500
TZNAME:EST
DTSTART:20191103T060000
END:STANDARD
END:VTIMEZONE
BEGIN:VEVENT
DTSTART;VALUE=DATE:20190712
DTEND;VALUE=DATE:20190713
DTSTAMP:20210403T180224
CREATED:20190709T185753Z
LAST-MODIFIED:20190709T185753Z
UID:167131-1562889600-1562975999@www.patriotguard.org
SUMMARY:Donald J. Moore
DESCRIPTION:Honor Mission\nDonald J. Moore\, Veteran\nUSAF\nHigh Ridge\, Missouri – 07-12-19\n\n\n\n\nABOUT THE MISSION: \nIt is a most distinct honor and privilege for the Patriot Guard Riders\, at the family’s request\, to stand a flag line of honor and respect for United States Air Force veteran Donald J. Moore\, 90\, and escort him to the hallowed grounds of Jefferson Barracks National Cemetery where he will receive full military honors.  S/Sgt Moore proudly served his country from 1948 to 1952 in the 3345th Supply Squadron.  His awards include the Army Occupation Medal (Germany)\, Good Conduct Medal\, Berlin Airlift Device\, and the Medal for Humane Service. Hero Moore\, a grateful nation thanks you and is indebted to you for your honorable service.  Your sacrifices have granted us the freedoms we continue to enjoy to this very day. Thank you and Godspeed.\n\n\nPRIMARY STAGING DETAILS: 07-12-19 \nStaging Time: 09:15 am \nSt. Anthony of Padua Catholic Church\n3009 High Ridge Blvd.\nHigh Ridge\, Missouri 63049\n\n\nRide Captain: \nJim “(1) Gun-Shy” Kleszczewski\n314-956-6899\njimkl2112@gmail.com\n\n\nSpecial Instructions: \nR.E.D. Shirt Friday\n9:15 AM – Ride meeting followed by flag line welcoming family and friends\n10:00 AM – Funeral Mass followed by honor escort to Jefferson Barracks National Cemetery\n11:30 AM – Committal Service and military honors.  Forecast for Friday is sunny with a high of 86.  Please hydrate much more than believed necessary. Cages are always welcome.\n\nFlags & Water:\nFlags will be provided\nIf you have large bike flags\, please bring them.\nWater will be provided.\n\n\n\n\nSubmitted By: Jim Kleszczewski \nPosition: Missouri Ride Captain \n\nNote: You do not have to own/ride a motorcycle or be a veteran to join\, and membership is Free. The only requirement is RESPECT! To subscribe to receive mission notices\, log into the National Site and click on the Members tab at the top. Select the Subscribe to PGR Missions option.\n Print This Page
URL:https://www.patriotguard.org/mission/donald-j-moore-2/
CATEGORIES:Honor Mission
END:VEVENT
END:VCALENDAR