BEGIN:VCALENDAR
VERSION:2.0
PRODID:-//Patriot Guard Riders - ECPv5.3.2.1//NONSGML v1.0//EN
CALSCALE:GREGORIAN
METHOD:PUBLISH
X-WR-CALNAME:Patriot Guard Riders
X-ORIGINAL-URL:https://www.patriotguard.org
X-WR-CALDESC:Events for Patriot Guard Riders
BEGIN:VTIMEZONE
TZID:America/New_York
BEGIN:DAYLIGHT
TZOFFSETFROM:-0500
TZOFFSETTO:-0400
TZNAME:EDT
DTSTART:20190310T070000
END:DAYLIGHT
BEGIN:STANDARD
TZOFFSETFROM:-0400
TZOFFSETTO:-0500
TZNAME:EST
DTSTART:20191103T060000
END:STANDARD
END:VTIMEZONE
BEGIN:VEVENT
DTSTART;VALUE=DATE:20190211
DTEND;VALUE=DATE:20190212
DTSTAMP:20210406T025745
CREATED:20190209T144538Z
LAST-MODIFIED:20190209T144538Z
UID:149706-1549843200-1549929599@www.patriotguard.org
SUMMARY:Donald H. Aldrich
DESCRIPTION:Honor Mission\nDonald H. Aldrich\, Veteran\nUSA – Korea\nNampa\, Idaho – 02-11-19\n\n\n\n\nABOUT THE MISSION: \nWe will stand a flag line to honor the life and service to his country of Donald Aldrich at Alsip Funeral Home at 11:00 am.\nAt the service commencement we will stand down and proceed to Kohlerlawn Cemetery.   If weather permits there will be a MM Honor escort from the Chapel to the cemetery.  At this time weather is forecasting the possibility of snow.  We will be governed by the weather about the MM Honor escort.  Those wishing to ride in the MM contact Dario Bell 208 515 6959.\n\n\nPRIMARY STAGING DETAILS: 02-11-19 \nStaging Time: 10:00  \nAlsip Funeral Chapel\, 404 10th ave. S.\nNampa\, Idaho 83651-7616\n\n\nRide Captain: \nRichard Percival\nrpercival@idfbins.com\n208 859 6478\n\n\nSpecial Instructions: \nBriefing/Updates: Flag line NLT 10:15 am.\n\n\nFlags & Water:\nFlags will not be provided\nIf you have large bike flags\, please bring them.\nWater WILL NOT be provided\, please bring your own.\n\nSTAGING #2 DETAILS: 02-11-19 \nStaging Time: 12:00  \nKohlerlawn Cemetery\, 76 6th st. N.\nNampa\, Idaho 83651-7616\n\n\nRide Captain: \nJohn Brodersen\njohnnytb79@gmail.com\n208 570 8719\n\n\nSpecial Instructions: \nBriefing/Updates: Flag line NLT 12:15\, appointment time is 12:30.  At completion of Military services we will stand down and dismiss.\n\n\nFlags & Water:\nFlags will not be provided\nIf you have large bike flags\, please bring them.\nWater WILL NOT be provided\, please bring your own.\n\n\nSubmitted By: Lyle Frost \nPosition: Idaho Assistant State Captain \n\nNote: You do not have to own/ride a motorcycle or be a veteran to join\, and membership is Free. The only requirement is RESPECT! To subscribe to receive mission notices\, log into the National Site and click on the Members tab at the top. Select the Subscribe to PGR Missions option.\n Print This Page
URL:https://www.patriotguard.org/mission/donald-h-aldrich/
CATEGORIES:Honor Mission
END:VEVENT
END:VCALENDAR