BEGIN:VCALENDAR
VERSION:2.0
PRODID:-//Patriot Guard Riders - ECPv5.6.0//NONSGML v1.0//EN
CALSCALE:GREGORIAN
METHOD:PUBLISH
X-WR-CALNAME:Patriot Guard Riders
X-ORIGINAL-URL:https://www.patriotguard.org
X-WR-CALDESC:Events for Patriot Guard Riders
BEGIN:VTIMEZONE
TZID:America/New_York
BEGIN:DAYLIGHT
TZOFFSETFROM:-0500
TZOFFSETTO:-0400
TZNAME:EDT
DTSTART:20160313T070000
END:DAYLIGHT
BEGIN:STANDARD
TZOFFSETFROM:-0400
TZOFFSETTO:-0500
TZNAME:EST
DTSTART:20161106T060000
END:STANDARD
END:VTIMEZONE
BEGIN:VEVENT
DTSTART;TZID=America/New_York:20160616T090000
DTEND;TZID=America/New_York:20160616T110000
DTSTAMP:20210513T165303
CREATED:20160616T130000Z
LAST-MODIFIED:20191201T145155Z
UID:411364-1466067600-1466074800@www.patriotguard.org
SUMMARY:Donald Grant\, USA Veteran / Sun City
DESCRIPTION:Donald Grant\nU.S. Army\nSun City\n16 June 2016\n\n\n\n The  family of Donald Grant has requested the Patriot Guard Riders of  Arizona to provide an escort to Phoenix National Cemetery for Donald’s  military services and to stand a flag line  at National Cemetery and we would be honored to do so.\n Donald served in the U.S.Army. He  served as a Senior Wireman and a Company Clerk. Donald received the  National Defense service medal\, Army of occupation medal(Germany) and the  Good Conduct Medal. He attended Quartermaster school and Field  Communications School. \n\n Ride Captain:   Gregg”Slider”Petersen / 480-215-9700/ greggazpgr@gmail.com \n Flag Support Vehicle Person:   Karen Swanson\n \nDate: 16 June 2016\nStaging Time:   0900hrs\, St.  Clements of Rome\, 15800 Del Web Blvd. Sun City\, Az 85351 \nBriefing Time:    0920hrs \nKSU Time:   O950hrs     \n Military Honors:  1100hrs\, National  Memorial Cemetery of Arizona\, 23029 N Cave Creek Rd\, Phoenix\, AZ 85024\n\n Road Guards are requested. Please contact Don   Nielson with availability\n\n Due to Arizona Weather\, please hydrate the day before and the day of the mission.
URL:https://www.patriotguard.org/mission/donald-grant-usa-veteran-sun-city/
CATEGORIES:Archive
END:VEVENT
END:VCALENDAR