BEGIN:VCALENDAR
VERSION:2.0
PRODID:-//Patriot Guard Riders - ECPv5.3.2.1//NONSGML v1.0//EN
CALSCALE:GREGORIAN
METHOD:PUBLISH
X-WR-CALNAME:Patriot Guard Riders
X-ORIGINAL-URL:https://www.patriotguard.org
X-WR-CALDESC:Events for Patriot Guard Riders
BEGIN:VTIMEZONE
TZID:America/New_York
BEGIN:DAYLIGHT
TZOFFSETFROM:-0500
TZOFFSETTO:-0400
TZNAME:EDT
DTSTART:20190310T070000
END:DAYLIGHT
BEGIN:STANDARD
TZOFFSETFROM:-0400
TZOFFSETTO:-0500
TZNAME:EST
DTSTART:20191103T060000
END:STANDARD
END:VTIMEZONE
BEGIN:VEVENT
DTSTART;VALUE=DATE:20190627
DTEND;VALUE=DATE:20190628
DTSTAMP:20210405T004422
CREATED:20190626T102113Z
LAST-MODIFIED:20190626T135704Z
UID:165729-1561593600-1561679999@www.patriotguard.org
SUMMARY:Donald Eugene
DESCRIPTION:Honor Mission\nDonald Eugene Sphar\, Veteran\nUSA\nCecil Township\, Pennsylvania – 06-27-19\n\n\n\n\nABOUT THE MISSION: \nThe Patriot Guard Riders have been invited by the family of Donald Eugene Sphar\, Sr.\, U.S. Army\, to stand in silent honor for his service and interment with military honors.  Donald proudly served for the U.S. Army in Germany during the Korean War Era from September 1950-July 1952 and received the Army Occupational Medal.  Donald served our country with honor\, now its our turn to stand in honor for him.\n\n\nPRIMARY STAGING DETAILS: 06-27-19 \nStaging Time: 10:30 a.m.\n \nPOW Circle which in located in the cemetery\,\nNational Cemetery Of The Alleghenies (NCOA)\,\n1158 Morgan Rd\, Cecil Township\,\nPennsylvania 15017\nMap\n\n\nRide Captain: \nJim Shaw\,\n jeshaw@comcast.net\n(412)217-5967\n\n\nSpecial Instructions: \nBriefing: 10:45 AM\, set flag line.\nInterment with military honors is scheduled for 11:00 AM.\nRemember that the National Cemetery is a Federal Reservation and NO WEAPONS are permitted.\n\n\nFlags & Water:\nFlags will not be provided\nLarge Bike Flags will NOT be needed.\nWater WILL NOT be provided\, please bring your own.\n\n\nSubmitted By: Marcy Sorensen \nPosition: Pennsylvania Ride Captain \n\nNote: You do not have to own/ride a motorcycle or be a veteran to join\, and membership is Free. The only requirement is RESPECT! To subscribe to receive mission notices\, log into the National Site and click on the Members tab at the top. Select the Subscribe to PGR Missions option.\n Print This Page
URL:https://www.patriotguard.org/mission/donald-eugene-sphar/
CATEGORIES:Honor Mission
END:VEVENT
END:VCALENDAR