BEGIN:VCALENDAR
VERSION:2.0
PRODID:-//Patriot Guard Riders - ECPv5.3.2.1//NONSGML v1.0//EN
CALSCALE:GREGORIAN
METHOD:PUBLISH
X-WR-CALNAME:Patriot Guard Riders
X-ORIGINAL-URL:https://www.patriotguard.org
X-WR-CALDESC:Events for Patriot Guard Riders
BEGIN:VTIMEZONE
TZID:America/New_York
BEGIN:DAYLIGHT
TZOFFSETFROM:-0500
TZOFFSETTO:-0400
TZNAME:EDT
DTSTART:20190310T070000
END:DAYLIGHT
BEGIN:STANDARD
TZOFFSETFROM:-0400
TZOFFSETTO:-0500
TZNAME:EST
DTSTART:20191103T060000
END:STANDARD
END:VTIMEZONE
BEGIN:VEVENT
DTSTART;VALUE=DATE:20190607
DTEND;VALUE=DATE:20190608
DTSTAMP:20210405T124926
CREATED:20190607T034111Z
LAST-MODIFIED:20190607T034111Z
UID:163899-1559865600-1559951999@www.patriotguard.org
SUMMARY:Donald Earl Williams
DESCRIPTION:Honor Mission\nDonald Earl Williams\, Retired\, Veteran\nUSA – Vietnam\nYukon\, Oklahoma – 06-07-19\n\n\n \n\nABOUT THE MISSION: \nThe family of USA SPC1 (Ret) Donald Earl Williams\, Vietnam Veteran\, has asked the PGR to stand a Flag Line at his services.\n\n\nPRIMARY STAGING DETAILS: 06-07-19 \nStaging Time: 11:45 AM\n \nSmith & Turner Funeral Home\n201 E. Main\nYukon\, Oklahoma\n\n\nRide Captain: \nJimmy “airride” Gaines\n(405) 220-3940\ntrailrider210@yahoo.com\n\n\nSpecial Instructions: \nMandatory Briefing: 12:00 p.m.\nRiders MUST attend the briefing if riding in the accompaniment.\nFlag Line: 12:30 p.m.\nRiders will stand a Flag Line and attend the doors to the Funeral Home as family and friends arrive. At the conclusion of the service Riders will stand a Respect Line as the urn is transferred from the chapel to the transporting vehicle. An accompaniment will follow to Binger\, OK\, where the PGR will take US281 north as the family and friends continue to a private residence.\nWeather: Partly cloudy with a 30% chance of a.m. rain. Low of 64\, daytime high of 84 with light north breeze is predicted.\n\nFlags & Water:\nFlags will be provided\nIf you have large bike flags\, please bring them.\nWater WILL NOT be provided\, please bring your own.\n\n\n\nSubmitted By: Ray Gehrig \nPosition: Oklahoma Ride Captain \n\nNote: You do not have to own/ride a motorcycle or be a veteran to join\, and membership is Free. The only requirement is RESPECT! To subscribe to receive mission notices\, log into the National Site and click on the Members tab at the top. Select the Subscribe to PGR Missions option.\n Print This Page
URL:https://www.patriotguard.org/mission/donald-earl-williams/
CATEGORIES:Honor Mission
END:VEVENT
END:VCALENDAR