BEGIN:VCALENDAR
VERSION:2.0
PRODID:-//Patriot Guard Riders - ECPv5.3.2.1//NONSGML v1.0//EN
CALSCALE:GREGORIAN
METHOD:PUBLISH
X-WR-CALNAME:Patriot Guard Riders
X-ORIGINAL-URL:https://www.patriotguard.org
X-WR-CALDESC:Events for Patriot Guard Riders
BEGIN:VTIMEZONE
TZID:America/New_York
BEGIN:DAYLIGHT
TZOFFSETFROM:-0500
TZOFFSETTO:-0400
TZNAME:EDT
DTSTART:20190310T070000
END:DAYLIGHT
BEGIN:STANDARD
TZOFFSETFROM:-0400
TZOFFSETTO:-0500
TZNAME:EST
DTSTART:20191103T060000
END:STANDARD
END:VTIMEZONE
BEGIN:VEVENT
DTSTART;VALUE=DATE:20190920
DTEND;VALUE=DATE:20190921
DTSTAMP:20210401T115920
CREATED:20190919T164349Z
LAST-MODIFIED:20190919T164349Z
UID:175472-1568937600-1569023999@www.patriotguard.org
SUMMARY:Donald “Don” Robert Mellander
DESCRIPTION:Honor Mission\nDonald “Don” Robert Mellander\, Veteran\nUSN – Korea\nAlbany\, Oregon – 09-20-19\n\n\n\nABOUT THE MISSION: \nLadies and Gentlemen of the Patriot Guard Riders\, we have been invited to stand for Donald “Don” Robert Mellander\, age 90. Don served in the US Navy from 6 September 1950 to 16 August 1954 as an Electronics Technician (Radar) 1st Class (E6) on the USS Essex (CVA-9). He earned the Korean Service Medal\, the United Nations Service Medal\, The National Defense Service Medal\, the China Service Medal\, a Good Conduct Medal\, and the Korean Presidential Unit Citation Medal. Please join us as we pay our respects and honor his service to our nation.\n\n\nPRIMARY STAGING DETAILS: 09-20-19 \nStaging Time: 09:30 AM\n \nSt. Mary’s Catholic Church\n706 SW Ellsworth St\nAlbany\, Oregon 97321\nMap\n\n\nRide Captain: \nTerry Brillon\nterrybrillon@comcast.net\n\n\nSpecial Instructions: \nBriefing: 9:45 am\nFlagline Set: 10:00 am\nService Begins: 11:00 am\nKSU to Cemetery: 1:30 pm\n\n\nFlags & Water:\nFlags will not be provided\nIf you have large bike flags\, please bring them.\nWater WILL NOT be provided\, please bring your own.\n\nSTAGING #2 DETAILS: 09-20-19 \nStaging Time: 1:00 PM\n \nWillamette Memorial Park Cemetery\n2640 Old Salem Rd NE\nAlbany\, Oregon 97321\nMap\n\n\nRide Captain: \nTerry Brillon\nterrybrillon@comcast.net\n\n\nSpecial Instructions: \nBriefing: 1:20 pm\nFlagline Set: 1:30 pm\nService Begins: 2:00 pm\n\n\nFlags & Water:\nFlags will not be provided\nIf you have large bike flags\, please bring them.\nWater WILL NOT be provided\, please bring your own.\n\n\n\nSubmitted By: John Hanan II \nPosition: Oregon State Captain \n\nNote: You do not have to own/ride a motorcycle or be a veteran to join\, and membership is Free. The only requirement is RESPECT! To subscribe to receive mission notices\, log into the National Site and click on the Members tab at the top. Select the Subscribe to PGR Missions option.\n Print This Page
URL:https://www.patriotguard.org/mission/donald-don-robert-mellander/
CATEGORIES:Honor Mission
END:VEVENT
END:VCALENDAR