BEGIN:VCALENDAR
VERSION:2.0
PRODID:-//Patriot Guard Riders - ECPv5.6.0//NONSGML v1.0//EN
CALSCALE:GREGORIAN
METHOD:PUBLISH
X-WR-CALNAME:Patriot Guard Riders
X-ORIGINAL-URL:https://www.patriotguard.org
X-WR-CALDESC:Events for Patriot Guard Riders
BEGIN:VTIMEZONE
TZID:America/New_York
BEGIN:DAYLIGHT
TZOFFSETFROM:-0500
TZOFFSETTO:-0400
TZNAME:EDT
DTSTART:20160313T070000
END:DAYLIGHT
BEGIN:STANDARD
TZOFFSETFROM:-0400
TZOFFSETTO:-0500
TZNAME:EST
DTSTART:20161106T060000
END:STANDARD
END:VTIMEZONE
BEGIN:VEVENT
DTSTART;TZID=America/New_York:20160723T090000
DTEND;TZID=America/New_York:20160723T110000
DTSTAMP:20210512T162434
CREATED:20160723T130000Z
LAST-MODIFIED:20191201T144139Z
UID:410428-1469264400-1469271600@www.patriotguard.org
SUMMARY:Donald Deters
DESCRIPTION:PGR MISSION\n23 JULY 2016\nUSARMY SGT DONALD DETERS\n TUCSON\, AZ  85719 \n\n\nDonald L. Deters was born on 21 May 1932 in St. Louis\, Missouri.  Donald enlisted in the United States Army just shy of his 20th birthday.  SGT Deters service dates spanned from April of 1952 to March of 1955. \n\nAfter leaving the Army SGT Deters returned home to marry the love of his life\, Geri\, who he had known since they were 16 years old on 1 September 1956.  SGT Deters made his civilian career at Ford Motor Company as a computer programmer.  Upon retirement SGT Deters and his wife moved to Florida for ten years and then left there to live in Tucson\, Arizona.   \nSGT Deters loved the water.  He was an avid boater\, he loved to play a good round of golf and rode his Goldwing as much as possible. \nSGT Deters passed on 14 July 2016 leaving behind his beloved wife of almost 60 years\, 3 sons\, 8 grand children and 5 great-grandchildren. \nThe Patriot Guard Riders have been invited to stand a flag line and it will be our honor.      \nDATE:  Saturday 23 July 2016 \nSTAGING:  Abbey Mortuary and Funeral Home  (Please stage in the back of Mortuary)\n                   3435 N. 1st Ave\n                   Tucson\, AZ  85719 \nTIME:  11:30 am \nBRIEFING:  11:45 am \nRIDE CAPTAIN:  Benny [URL=”tel:520-444-3023″]520-444-3023[/URL]\n\n***PLEASE REMEMBER WE ARE IN THE HEAT OF SUMMER TO HYDRATE THE DAY BEFORE AS WELL AS THE DAY OF THE MISSION WITH WATER OR GATORADE***
URL:https://www.patriotguard.org/mission/donald-deters/
CATEGORIES:Archive
END:VEVENT
END:VCALENDAR