BEGIN:VCALENDAR
VERSION:2.0
PRODID:-//Patriot Guard Riders - ECPv5.6.0//NONSGML v1.0//EN
CALSCALE:GREGORIAN
METHOD:PUBLISH
X-WR-CALNAME:Patriot Guard Riders
X-ORIGINAL-URL:https://www.patriotguard.org
X-WR-CALDESC:Events for Patriot Guard Riders
BEGIN:VTIMEZONE
TZID:America/New_York
BEGIN:DAYLIGHT
TZOFFSETFROM:-0500
TZOFFSETTO:-0400
TZNAME:EDT
DTSTART:20130310T070000
END:DAYLIGHT
BEGIN:STANDARD
TZOFFSETFROM:-0400
TZOFFSETTO:-0500
TZNAME:EST
DTSTART:20131103T060000
END:STANDARD
END:VTIMEZONE
BEGIN:VEVENT
DTSTART;TZID=America/New_York:20130307T090000
DTEND;TZID=America/New_York:20130307T110000
DTSTAMP:20210512T083025
CREATED:20130307T140000Z
LAST-MODIFIED:20191201T121208Z
UID:387479-1362646800-1362654000@www.patriotguard.org
SUMMARY:Donald Dean Schroder\, 82\, USA Veteran
DESCRIPTION:Veteran Corporal Donald Dean Schroder\, 82   \nUS. Army\,  Alliance NE \n07 MAR 13 \nThe Patriot Guard Riders have been invited by the family of Veteran Corporal Donald Dean Schroder to participate in his graveside service at the Nebraska Veterans Cemetery in Alliance Nebraska\, on Thursday\, MARCH 7\, 2013. \nCorporal Schroder served in the Army from April of 1951 through March of 1953. He completed basic training at Ft. Hood\, Texas and then traveled to Korea and Japan. He was honorably discharged in 1953 as a Corporal. \n. \nGRAVESIDE SERVICE: \n. \nSTAGE DATE;                     THURSDAY\,   MARCH 7\, 2013 \nSTAGE LOCATION:              Nebraska Veteran’s Cemetery in Alliance NE……… on the road at the base of the “tear drop” \n. \nSTAGE TIME:                        10AM \n. \nRIDERS MEETING:                         10:10AM \n. \nFLAGLINE:                                      10:20AM   Flags will be provided \n. \nSERVICE:                               11AM \nRIDE CAPTAIN:                    Rodger Clark         nepapaw@msn.com  308-760-2168 \n. \nSafety being paramount –ride only if conditions permit. \nThe Nebraska Patriot Guard Riders have been recognized by the National Safety Council and the Nebraska Office of Highway Safety for adhering to and promoting motorcycle safety. Ride alert – Ride safe. \n. \nPlease monitor this thread for changes and updates \n. \nScott Knudsen\, State Captain \n402-680-7598 \njscottknudsen@hotmail.com
URL:https://www.patriotguard.org/mission/donald-dean-schroder-82-usa-veteran/
CATEGORIES:Archive
END:VEVENT
END:VCALENDAR