BEGIN:VCALENDAR
VERSION:2.0
PRODID:-//Patriot Guard Riders - ECPv5.3.2.1//NONSGML v1.0//EN
CALSCALE:GREGORIAN
METHOD:PUBLISH
X-WR-CALNAME:Patriot Guard Riders
X-ORIGINAL-URL:https://www.patriotguard.org
X-WR-CALDESC:Events for Patriot Guard Riders
BEGIN:VTIMEZONE
TZID:America/New_York
BEGIN:DAYLIGHT
TZOFFSETFROM:-0500
TZOFFSETTO:-0400
TZNAME:EDT
DTSTART:20190310T070000
END:DAYLIGHT
BEGIN:STANDARD
TZOFFSETFROM:-0400
TZOFFSETTO:-0500
TZNAME:EST
DTSTART:20191103T060000
END:STANDARD
END:VTIMEZONE
BEGIN:VEVENT
DTSTART;VALUE=DATE:20190906
DTEND;VALUE=DATE:20190907
DTSTAMP:20210401T130100
CREATED:20190903T002818Z
LAST-MODIFIED:20190903T002818Z
UID:172412-1567728000-1567814399@www.patriotguard.org
SUMMARY:Donald D. Stephenson
DESCRIPTION:Honor Mission\nDonald D. Stephenson\, Retired\nUSN – WWII\nDeming\, New Mexico – 09-06-19\n\n\n\nABOUT THE MISSION: \nDonald D. Stephenson retired as a Yeoman Master Chief from the US Navy in May of 1967. Donald served 1942-1946\, during WW-II\, then took a break in service until Aug 1950 and retired in May 1967. His decorations included the National Defense Medal and the Navy Good Conduct medal.\n\n\nPRIMARY STAGING DETAILS: 09-06-19 \nStaging Time: 09:15 AM\n \nBaca’s Funeral Home\n811 S. Gold St.\nDeming\, New Mexico 88030\n\n\nRide Captain: \nBobby (Mr. Wonderful) Jakcsy\n575-496-1809\nbobby.jakcsy@gmail.com\n\n\nSpecial Instructions: \nStage: 0915\nSafety briefing: 0930.\nEscort to Mt. View Cemetery\, 3410 Pine St.\, Deming\, NM.\nAt the Cemetery we will establish a Flagline around the graveside\, during the presentation of Military Honors provided by the USN and the Marine Corps League. The PGR is then asked to join the family for a reception immediately following the graveside services.\nYMC Stephenson’s Daughter and Son-in-law are PGR riders from central Florida\, so let’s show them the best side of the Southwest Area’s PGR.\n\n\nFlags & Water:\nFlags will be provided\nIf you have large bike flags\, please bring them.\nWater will be provided.\n\n\n\nSubmitted By: Bobby Jakcsy \nPosition: New Mexico Ride Captain \n\nNote: You do not have to own/ride a motorcycle or be a veteran to join\, and membership is Free. The only requirement is RESPECT! To subscribe to receive mission notices\, log into the National Site and click on the Members tab at the top. Select the Subscribe to PGR Missions option.\n Print This Page
URL:https://www.patriotguard.org/mission/donald-d-stephenson/
CATEGORIES:Honor Mission
END:VEVENT
END:VCALENDAR