BEGIN:VCALENDAR
VERSION:2.0
PRODID:-//Patriot Guard Riders - ECPv5.6.0//NONSGML v1.0//EN
CALSCALE:GREGORIAN
METHOD:PUBLISH
X-WR-CALNAME:Patriot Guard Riders
X-ORIGINAL-URL:https://www.patriotguard.org
X-WR-CALDESC:Events for Patriot Guard Riders
BEGIN:VTIMEZONE
TZID:America/New_York
BEGIN:DAYLIGHT
TZOFFSETFROM:-0500
TZOFFSETTO:-0400
TZNAME:EDT
DTSTART:20210314T070000
END:DAYLIGHT
BEGIN:STANDARD
TZOFFSETFROM:-0400
TZOFFSETTO:-0500
TZNAME:EST
DTSTART:20211107T060000
END:STANDARD
END:VTIMEZONE
BEGIN:VEVENT
DTSTART;VALUE=DATE:20210512
DTEND;VALUE=DATE:20210513
DTSTAMP:20210511T122453
CREATED:20210509T172550Z
LAST-MODIFIED:20210509T172550Z
UID:576755-1620777600-1620863999@www.patriotguard.org
SUMMARY:Donald Clay Cherry Sr.
DESCRIPTION:Honor Mission\nDonald Clay Cherry Sr.\, Retired\nUSN – GW/ODS\, WoT\nElizabeth City\, North Carolina – 05-12-21\n\n\n\nABOUT THE MISSION: \nMAC (SW) Donald Clay Cherry\, U.S. Navy Retired\, served our country honorably for 20 years. Serving as the Sheriff aboard ship as the Master at Arms Chief provided a challenging yet rewarding career. His list of awards include A Navy Achievement Medal\, Battle Efficiency Award\, 5 Good Conduct Awards\, Sea Service Deployment Medal\, Southwest Asia Medal\, Sea Service Award with one bronze star\, and the National Defense Medal. As he stood for Us\, it is now our duty and honor to stand for him.\n\n\nPRIMARY STAGING DETAILS: 05-12-21 \nStaging Time: 10:45 AM\n \nMitchell Funeral Home\n609 Hull Dr.\nElizabeth City\, North Carolina 27909\n\n\nRide Captain: \nBill Hale\n252-333-6075\n\nAssist: Gary “Yankee” Williams\n\n\nSpecial Instructions: \nWe will proceed to the family residence and escort them to the Funeral Home.\nFollowing the Celebration of MAC Cherry’s life\, we will mount up and escort him and his family to the Westlawn Cemetery and set a Flag Line.\nMilitary Honors will be performed at the cemetery and we will render the appropriate Honors.\nPlease adhere to the current COVID 19 guidelines.\nPlease hydrate prior to arrival and stay hydrated during the mission.\n\n\nFlags & Water:\nFlags will be provided\nIf you have large bike flags\, please bring them.\nWater WILL NOT be provided\, please bring your own.\n\n\nSubmitted By: Roy Hankinson \nPosition: North Carolina Assistant State Captain \n\nNote: You do not have to own/ride a motorcycle or be a veteran to join\, and membership is Free. The only requirement is RESPECT! To subscribe to receive mission notices\, log into the National Site and click on the Members tab at the top. Select the Subscribe to PGR Missions option.\n Print This Page
URL:https://www.patriotguard.org/mission/donald-clay-cherry-sr/
CATEGORIES:Honor Mission
END:VEVENT
END:VCALENDAR