BEGIN:VCALENDAR
VERSION:2.0
PRODID:-//Patriot Guard Riders - ECPv5.3.2.1//NONSGML v1.0//EN
CALSCALE:GREGORIAN
METHOD:PUBLISH
X-WR-CALNAME:Patriot Guard Riders
X-ORIGINAL-URL:https://www.patriotguard.org
X-WR-CALDESC:Events for Patriot Guard Riders
BEGIN:VTIMEZONE
TZID:America/New_York
BEGIN:DAYLIGHT
TZOFFSETFROM:-0500
TZOFFSETTO:-0400
TZNAME:EDT
DTSTART:20190310T070000
END:DAYLIGHT
BEGIN:STANDARD
TZOFFSETFROM:-0400
TZOFFSETTO:-0500
TZNAME:EST
DTSTART:20191103T060000
END:STANDARD
END:VTIMEZONE
BEGIN:VEVENT
DTSTART;VALUE=DATE:20190703
DTEND;VALUE=DATE:20190704
DTSTAMP:20210403T200659
CREATED:20190701T214434Z
LAST-MODIFIED:20190701T214535Z
UID:166395-1562112000-1562198399@www.patriotguard.org
SUMMARY:Donald Brown
DESCRIPTION:Honor Mission\nDonald Brown\, Veteran\nUSA – Korea\, Vietnam\nNashville\, Tennessee – 07-03-19\n\n\n\nABOUT THE MISSION: \nDonald Brown served during the Korean War from 1954 to 1957.  He later served during the Vietnam War from 1968 until 1974\, separating from the Army with the rank of 1st Lt.  Donald died recently at the VA Hospital in Nashville and had no family to claim his remains.  PGR will proudly stand as his family.\n\n\nPRIMARY STAGING DETAILS: 07-03-19 \nStaging: 10:15 am\n \nShell Station\n8020 McCrory Lane\nNashville\, Tennessee 37221\n\n\nRide Captain: \nDavid Westhorp\n(615) 330-5340\n\n\nSpecial Instructions: \nPGR will move to the Middle TN Veterans Cemetery pavilion at 10:40 am\, to stand a flag-line.\n\n\nFlags & Water:\nFlags will be provided\nIf you have large bike flags\, please bring them.\nWater WILL NOT be provided\, please bring your own.\n\nSubmitted By: David Westhorp \nPosition: Tennessee State Captain \n\nNote: You do not have to own/ride a motorcycle or be a veteran to join\, and membership is Free. The only requirement is RESPECT! To subscribe to receive mission notices\, log into the National Site and click on the Members tab at the top. Select the Subscribe to PGR Missions option.\n Print This Page
URL:https://www.patriotguard.org/mission/donald-brown/
CATEGORIES:Honor Mission
END:VEVENT
END:VCALENDAR