BEGIN:VCALENDAR
VERSION:2.0
PRODID:-//Patriot Guard Riders - ECPv5.6.0//NONSGML v1.0//EN
CALSCALE:GREGORIAN
METHOD:PUBLISH
X-WR-CALNAME:Patriot Guard Riders
X-ORIGINAL-URL:https://www.patriotguard.org
X-WR-CALDESC:Events for Patriot Guard Riders
BEGIN:VTIMEZONE
TZID:America/New_York
BEGIN:DAYLIGHT
TZOFFSETFROM:-0500
TZOFFSETTO:-0400
TZNAME:EDT
DTSTART:20160313T070000
END:DAYLIGHT
BEGIN:STANDARD
TZOFFSETFROM:-0400
TZOFFSETTO:-0500
TZNAME:EST
DTSTART:20161106T060000
END:STANDARD
END:VTIMEZONE
BEGIN:VEVENT
DTSTART;TZID=America/New_York:20160603T090000
DTEND;TZID=America/New_York:20160603T110000
DTSTAMP:20210513T144348
CREATED:20160603T130000Z
LAST-MODIFIED:20191201T145524Z
UID:411677-1464944400-1464951600@www.patriotguard.org
SUMMARY:Donald Brandt\, 69
DESCRIPTION:The  Family of Donald Brandt has invited the Patriot Guard Riders to Stand  in Honor of his Service to our Country. Donald was an avid  fisherman and enjoyed taking fishing trips to Canada\, also loved to go  elk hunting out west. But most of all he liked spending time with his  Family.\n\nService:   Friday 3 June 2016  \nLocation:\nLangland Family Funeral Home “Memorial Chapel”\n622 S. Burdick St.\nKalamazoo\, MI\nStaging:   9:00 am\nBriefing:   9:15 am\nFlagline after Briefing \nThere  will be a Visitation from 10:00 am to 11:00 am Service at 11:00 am.   Following the service\, interment at Fort Custer National Cemetery \nThere  is a chance we will be escorting to Custer. This will be covered at  the briefing. You must attend Safety Briefing in order  to ride in the escort.\n\nRC TBD 517 462 8143 \nPosted per “Sherpa”\nState Captain
URL:https://www.patriotguard.org/mission/donald-brandt-69/
CATEGORIES:Archive
END:VEVENT
END:VCALENDAR