BEGIN:VCALENDAR
VERSION:2.0
PRODID:-//Patriot Guard Riders - ECPv5.6.0//NONSGML v1.0//EN
CALSCALE:GREGORIAN
METHOD:PUBLISH
X-WR-CALNAME:Patriot Guard Riders
X-ORIGINAL-URL:https://www.patriotguard.org
X-WR-CALDESC:Events for Patriot Guard Riders
BEGIN:VTIMEZONE
TZID:America/New_York
BEGIN:DAYLIGHT
TZOFFSETFROM:-0500
TZOFFSETTO:-0400
TZNAME:EDT
DTSTART:20160313T070000
END:DAYLIGHT
BEGIN:STANDARD
TZOFFSETFROM:-0400
TZOFFSETTO:-0500
TZNAME:EST
DTSTART:20161106T060000
END:STANDARD
END:VTIMEZONE
BEGIN:VEVENT
DTSTART;TZID=America/New_York:20160707T090000
DTEND;TZID=America/New_York:20160707T110000
DTSTAMP:20210512T213150
CREATED:20160707T130000Z
LAST-MODIFIED:20191201T144552Z
UID:410817-1467882000-1467889200@www.patriotguard.org
SUMMARY:Donald Acker
DESCRIPTION:The family of Donald “Don” Acker has requested the participation of the Patriot Guard Riders in his military honors funeral. \nWHEN / WHERE:\nThursday July 7th\nAlbany\, NY. \nAfter church services\, flag line for dignified transfer then escort to Saratoga National Cemetery. \nLRC Dan Nolin \nABOUT THE MISSION\nDon was a firm believer and follower of The Lord Jesus\, who lived a life full of adventure. He had a love for people\, sacrifice\, and fun. Don was a military veteran\, a loving husband and dad\, a faithful provider\, protector and a friend to all. He served the needy people both locally and globally whenever called upon both with his engineering\, trade and people skills. A fearless risk taker\, problem solver\, with a humble heart and brilliant mind who had the child-like faith and commitment to the God he loved. Always ready to help\, he worked hard and played hard loving the outdoors\, hunting\, fishing\, boating and motorcycles. But most of all\, he loved working towards making his daughter’s Olympic dreams come true. Don served in the US Air Force. \nThe Patriot Guard Riders will be privileged to be there to render honor\, dignity and respect for the life and service of E-3 Donald “Don” Acker. \nDan Nolin\nSenior Ride Capt.\ndan1nolin@yahoo.com\n[URL=”tel:518-361-6410″]518-361-6410[/URL]
URL:https://www.patriotguard.org/mission/donald-acker/
CATEGORIES:Archive
END:VEVENT
END:VCALENDAR