BEGIN:VCALENDAR
VERSION:2.0
PRODID:-//Patriot Guard Riders - ECPv5.3.2.1//NONSGML v1.0//EN
CALSCALE:GREGORIAN
METHOD:PUBLISH
X-WR-CALNAME:Patriot Guard Riders
X-ORIGINAL-URL:https://www.patriotguard.org
X-WR-CALDESC:Events for Patriot Guard Riders
BEGIN:VTIMEZONE
TZID:America/New_York
BEGIN:DAYLIGHT
TZOFFSETFROM:-0500
TZOFFSETTO:-0400
TZNAME:EDT
DTSTART:20190310T070000
END:DAYLIGHT
BEGIN:STANDARD
TZOFFSETFROM:-0400
TZOFFSETTO:-0500
TZNAME:EST
DTSTART:20191103T060000
END:STANDARD
END:VTIMEZONE
BEGIN:VEVENT
DTSTART;VALUE=DATE:20190504
DTEND;VALUE=DATE:20190505
DTSTAMP:20210403T101453
CREATED:20190501T144029Z
LAST-MODIFIED:20190501T144029Z
UID:159347-1556928000-1557014399@www.patriotguard.org
SUMMARY:Don Herman Scheel
DESCRIPTION:Honor Mission\nDon Herman Scheel \, Veteran\nUSA\nCoeur d Alene\, Idaho – 05-04-19\n\n\nABOUT THE MISSION:\n\nThe daughter of Don Scheel has requested the presence of the Patriot Guard to honor his service in support for our freedom. The Patriot Guard is honored to stand a silent flag line for this American Hero. Don served in the Army from 1971 to 1974\, as a mechanic stationed in Germany.  Don lost his life in a motorcycle accident of August 24\, 2018. The accident also left his wife\, Mitzi with a traumatic brain injury which is why the Celebration of life had been postponed until now. Celebration of life will be in Mullan\, ID (approx 60 miles east of Coeur d Alene).\n\n\nPRIMARY STAGING DETAILS: 05-04-19 \nStaging Time: 10:45 am  \nExxon ( some will remember it as Tersoro)\n1501 E. Sherman St. ( Sherman St exit off I-90 eastbound)\nCoeur d Alene\, Idaho 83814\n\n\n\nRide Captain: \nEd Honcik -(208) 661-2288\nAsst. Corky Read – (208) 618-1584\nCage : Jerry Bauer – (208)659-0697\n\n\nSpecial Instructions: \nBriefing: 11:00 am\nKSU: 11:15 am\n          Ride as a group to Mullan ID\n\n\nFlags & Water:\nFlags will be provided\nLarge Bike Flags will NOT be needed.\nWater WILL NOT be provided\, please bring your own.\n\nSTAGING #2 DETAILS:  \nStaging Time: 12:00 noon \nMorning Club Building\n117 Hunter St\nMullan\, ID 83846\n\n\nRide Captain: \nEd Honcik -(208) 661-2288\nAsst. Corky Read – (208) 618-1584\n\n\nSpecial Instructions: \nBriefing: noon\nFlag Line established: 12:15 am\n\n\nFlags & Water:\nFlags will be provided\nLarge Bike Flags will NOT be needed.\nWater WILL NOT be provided\, please bring your own.\n\n\n\nSubmitted By: Pamela Moist \nPosition: Idaho Assistant State Captain \n\nNote: You do not have to own/ride a motorcycle or be a veteran to join\, and membership is Free. The only requirement is RESPECT! To subscribe to receive mission notices\, log into the National Site and click on the Members tab at the top. Select the Subscribe to PGR Missions option.\n Print This Page
URL:https://www.patriotguard.org/mission/don-herman-scheel/
CATEGORIES:Honor Mission
END:VEVENT
END:VCALENDAR