BEGIN:VCALENDAR
VERSION:2.0
PRODID:-//Patriot Guard Riders - ECPv5.3.2.1//NONSGML v1.0//EN
CALSCALE:GREGORIAN
METHOD:PUBLISH
X-WR-CALNAME:Patriot Guard Riders
X-ORIGINAL-URL:https://www.patriotguard.org
X-WR-CALDESC:Events for Patriot Guard Riders
BEGIN:VTIMEZONE
TZID:America/New_York
BEGIN:DAYLIGHT
TZOFFSETFROM:-0500
TZOFFSETTO:-0400
TZNAME:EDT
DTSTART:20190310T070000
END:DAYLIGHT
BEGIN:STANDARD
TZOFFSETFROM:-0400
TZOFFSETTO:-0500
TZNAME:EST
DTSTART:20191103T060000
END:STANDARD
END:VTIMEZONE
BEGIN:VEVENT
DTSTART;VALUE=DATE:20190621
DTEND;VALUE=DATE:20190622
DTSTAMP:20210405T125122
CREATED:20190619T204307Z
LAST-MODIFIED:20190619T204307Z
UID:165228-1561075200-1561161599@www.patriotguard.org
SUMMARY:Don Gerald Musgrove
DESCRIPTION:Honor Mission\nDon Gerald Musgrove\, Veteran\nUSN – Korea\nNewalla\, Oklahoma – 06-21-19\n\n\n\nABOUT THE MISSION: \nThe family of PO2 Don Gerald Musgrove has asked the PGR to stand a Flag Line at his service.\n\n\nPRIMARY STAGING DETAILS: 06-21-19 \nStaging Time: 08:45 AM\n \nFirst Baptist Church of Newalla\n20800 Se. 59th Street\nNewalla\, Oklahoma\n\n\nRide Captain: \nBruce”Sixgun”McCormick\n405-933-5462\nbkrodeoranch@sbcglobal.net\n\n\nSpecial Instructions: \nMandatory briefing: 9:00 am.\nRiders must attend mandatory briefing if riding in the accompaniment.\nRiders will stake the area surrounding the Church prior to the briefing.\nAfter the briefing\, Riders will ride to the family home approximately 2 1/2 miles away and accompany the family back to the Church.\nWeather: 95 degrees with a chance of a thunderstorm in the afternoon.\nPlease remember to hydrate before and during the mission.\n\n\nFlags & Water:\nFlags will be provided\nIf you have large bike flags\, please bring them.\nWater WILL NOT be provided\, please bring your own.\n\n\n\nSubmitted By: Bruce McCormick \nPosition: Oklahoma Ride Captain \n\nNote: You do not have to own/ride a motorcycle or be a veteran to join\, and membership is Free. The only requirement is RESPECT! To subscribe to receive mission notices\, log into the National Site and click on the Members tab at the top. Select the Subscribe to PGR Missions option.\n Print This Page
URL:https://www.patriotguard.org/mission/don-gerald-musgrove/
CATEGORIES:Honor Mission
END:VEVENT
END:VCALENDAR