BEGIN:VCALENDAR
VERSION:2.0
PRODID:-//Patriot Guard Riders - ECPv5.3.2.1//NONSGML v1.0//EN
CALSCALE:GREGORIAN
METHOD:PUBLISH
X-WR-CALNAME:Patriot Guard Riders
X-ORIGINAL-URL:https://www.patriotguard.org
X-WR-CALDESC:Events for Patriot Guard Riders
BEGIN:VTIMEZONE
TZID:America/New_York
BEGIN:DAYLIGHT
TZOFFSETFROM:-0500
TZOFFSETTO:-0400
TZNAME:EDT
DTSTART:20190310T070000
END:DAYLIGHT
BEGIN:STANDARD
TZOFFSETFROM:-0400
TZOFFSETTO:-0500
TZNAME:EST
DTSTART:20191103T060000
END:STANDARD
END:VTIMEZONE
BEGIN:VEVENT
DTSTART;VALUE=DATE:20190709
DTEND;VALUE=DATE:20190710
DTSTAMP:20210403T205619
CREATED:20190708T004247Z
LAST-MODIFIED:20190708T004247Z
UID:166903-1562630400-1562716799@www.patriotguard.org
SUMMARY:Don Edwin Williams
DESCRIPTION:Honor Mission\nDon Edwin Williams\, Veteran\nUSN – Korea\nMULTI-CITY\, Texas – 07-09-19\n\n\n\nABOUT THE MISSION: \nFuneral Service & Procession\, Interment Service.\n\n\nPRIMARY STAGING DETAILS: 07-09-19 \nStaging Time: 09:00 AM\n \nSt. John’s Lutheran Church\n1812 Debbie Lane\nMansfield\, Texas 76063\n\n\nRide Captain: \nBrian Liberty\npostmasterliberty@gmail.com\n(979) 702-9097\n\nAsst: Mike Flocken\, mikefl@flash.net\, (214) 458-4473\n\n\nSpecial Instructions: \nStaging Time: 09:00\nBriefing Time: 09:15\nIn Position/KSU Time: 09:30\nStarting Time: 10:00\nFlag Line as family and friends of PO3 Don Williams arrive.\nOnce the service starts\, the Ride Captain will make the decision when to remove the flags and take them to the support vehicle. The riders will be debriefed and dismissed. If riders stay to ride in the procession\, there will be a safety briefing provided. The PGR that do not ride in the procession may meet at the DFW Visitation Center.\nProcession: Escort Provided\n\n\nFlags & Water:\nFlags will be provided\nIf you have large bike flags\, please bring them.\nWater will be provided.\n\nSTAGING #2 DETAILS: 07-09-19 \nStaging Time: 12:15 PM\n \nDFW National Cemetery\n2000 Mountain Creek Pkwy\nDallas\, Texas 75211\n\n\nRide Captain: \nBrian Liberty\npostmasterliberty@gmail.com\n(979) 702-9097\n\nAsst: Mike Flocken\, mikefl@flash.net\, (214) 458-4473\n\n\nSpecial Instructions: \nStaging Time: 12:15\nBriefing Time: 12:30\nIn Position/KSU Time: 12:45\nStarting Time: 1:00\nAnyone not riding in the procession will stage at the Visitor’s Center of DFW National Cemetery. After the mission briefing\, Honor Bikes will be selected\, if needed\, and they will move to the appropriate staging lane. Remaining riders will proceed to the assigned shelter\, set the flags and await the arrival of PO3 WIlliams’ family and friends. After the service\, flags will be returned to the storage locker and riders will be debriefed and dismissed.\n\n\nFlags & Water:\nFlags will be provided\nLarge Bike Flags will NOT be needed.\nWater WILL NOT be provided\, please bring your own.\n\n\n\nSubmitted By: Dan Mathys \nPosition: Texas Ride Captain \n\nNote: You do not have to own/ride a motorcycle or be a veteran to join\, and membership is Free. The only requirement is RESPECT! To subscribe to receive mission notices\, log into the National Site and click on the Members tab at the top. Select the Subscribe to PGR Missions option.\n Print This Page
URL:https://www.patriotguard.org/mission/don-edwin-williams/
CATEGORIES:Honor Mission
END:VEVENT
END:VCALENDAR