BEGIN:VCALENDAR
VERSION:2.0
PRODID:-//Patriot Guard Riders - ECPv5.3.2.1//NONSGML v1.0//EN
CALSCALE:GREGORIAN
METHOD:PUBLISH
X-WR-CALNAME:Patriot Guard Riders
X-ORIGINAL-URL:https://www.patriotguard.org
X-WR-CALDESC:Events for Patriot Guard Riders
BEGIN:VTIMEZONE
TZID:America/New_York
BEGIN:DAYLIGHT
TZOFFSETFROM:-0500
TZOFFSETTO:-0400
TZNAME:EDT
DTSTART:20190310T070000
END:DAYLIGHT
BEGIN:STANDARD
TZOFFSETFROM:-0400
TZOFFSETTO:-0500
TZNAME:EST
DTSTART:20191103T060000
END:STANDARD
END:VTIMEZONE
BEGIN:VEVENT
DTSTART;VALUE=DATE:20190720
DTEND;VALUE=DATE:20190721
DTSTAMP:20210403T204749
CREATED:20190711T100753Z
LAST-MODIFIED:20190711T100753Z
UID:166927-1563580800-1563667199@www.patriotguard.org
SUMMARY:Don E. Smith
DESCRIPTION:Honor Mission\nDon E. Smith\, Veteran\nUSMC \, Vietnam\nLouisville\, Kentucky – 07-20-19\n\n\n\n\nABOUT THE MISSION: \nMr Smith was a US Marine Corp Veteran and served in Vietnam.\n\n\nPRIMARY STAGING DETAILS: 07-20-19 \nStaging Time: 9:15 am  \nEvergreen Cemetery Chapel\n4623 Preston Hwy\nLouisville\, Kentucky 40213\n\n\nRide Captain: \nTom Baker\n502-271-8955\n\n\nSpecial Instructions: \n\n\nFlags & Water:\nFlags will be provided\nLarge Bike Flags will NOT be needed.\nWater WILL NOT be provided\, please bring your own.\n\n\n\nSubmitted By: Thomas Baker \nPosition: Kentucky Ride Captain \n\nNote: You do not have to own/ride a motorcycle or be a veteran to join\, and membership is Free. The only requirement is RESPECT! To subscribe to receive mission notices\, log into the National Site and click on the Members tab at the top. Select the Subscribe to PGR Missions option.\n Print This Page
URL:https://www.patriotguard.org/mission/don-e-smith/
CATEGORIES:Honor Mission
END:VEVENT
END:VCALENDAR