BEGIN:VCALENDAR
VERSION:2.0
PRODID:-//Patriot Guard Riders - ECPv5.3.2.1//NONSGML v1.0//EN
CALSCALE:GREGORIAN
METHOD:PUBLISH
X-WR-CALNAME:Patriot Guard Riders
X-ORIGINAL-URL:https://www.patriotguard.org
X-WR-CALDESC:Events for Patriot Guard Riders
BEGIN:VTIMEZONE
TZID:America/New_York
BEGIN:DAYLIGHT
TZOFFSETFROM:-0500
TZOFFSETTO:-0400
TZNAME:EDT
DTSTART:20190310T070000
END:DAYLIGHT
BEGIN:STANDARD
TZOFFSETFROM:-0400
TZOFFSETTO:-0500
TZNAME:EST
DTSTART:20191103T060000
END:STANDARD
END:VTIMEZONE
BEGIN:VEVENT
DTSTART;VALUE=DATE:20190701
DTEND;VALUE=DATE:20190702
DTSTAMP:20210404T033256
CREATED:20190630T134522Z
LAST-MODIFIED:20190630T134522Z
UID:166324-1561939200-1562025599@www.patriotguard.org
SUMMARY:Diego Armando Ramirez
DESCRIPTION:Honor Mission\nDiego Armando Ramirez\, Active Duty\nUSA – WoT\nFort Worth\, Texas – 07-01-19\n\n\n \n\nABOUT THE MISSION: \nThe family of Staff Sergeant Ramirez has asked the Patriot Guard Riders to honor his memory and service to our Country by standing a Flag Line at his funeral service\, ride with him one last time and stand again at his interment. Diego Armando Ramirez\, born in Fort Worth\, Texas to Redentor Ramirez and Tomasa Mendez\, he passed away June 22\, at age 29. Diego Ramirez was a hard working veteran who proudly served 4 years as a United States Marine Corps\, embarking on several tours to the Middle East in support of OEF and OIF\, to help protect the freedom of our country. He transferred to the United States Army where he served and training future veterans as a staff sergeant for over 7 years\n\n\nPRIMARY STAGING DETAILS: 07-01-19 \nStaging Time: 12:00 pm\n \nHallmark Baptist Church\n4201 W. Risinger Rd.\nFort Worth\, Texas 76123\n\n\nRide Captain: \nMike Flocken\nmikefl@flash.net\n214-458-4473\n\n\nSpecial Instructions: \nBriefing Time 12:15 pm\nIn Position/KSU Time 12:30 pm\nStarting Time 1:00 pm\nAfter the Mission Brief\, the Riders will establish the Flag Line and await the arrival of Staff Segeant Ramirez’s family and friends. When directed\, the Riders will return the flags to the support vehicle\, receive the Safety Brief and prepare to accompany the procession to the cemetery. Riders not participating in the procession will proceed to the cemetery and assist with setting up the flags Procession Escort Provided\n\nFlags & Water:\nFlags will be provided\nIf you have large bike flags\, please bring them.\nWater will be provided.\n\nSTAGING #2 DETAILS: 07-01-19 \nStaging Time: 1:00 pm\n \nLaurel Land\n7100 Crowley Rd\nFort Worth\, Texas 76134\n\n\nRide Captain: \nMike Flocken\nmikefl@flash.net\n214-458-4473\n\n\nSpecial Instructions: \nBriefing Time 1:15 pm\nIn Position/KSU Time 1:30 pm\nStarting Time 2:00 pm Estimated\nAfter the Mission Briefing honor bikes will be identified and move to the Hallmark Baptist Church Staging Lane to accompany the procession. Riders not wishing to ride in the procession may proceed to the designated interment site at Laurel Land Ft. Worth Cemetery\, establish the Flag Line and prepare to receive the family and friends of Staff Sergeant Ramirez. When directed the Riders will return the flags to the support vehicle\, be debriefed and dismissed.\n\nFlags & Water:\nFlags will be provided\nIf you have large bike flags\, please bring them.\nWater will be provided.\n\n\n\nSubmitted By: Dan Mathys \nPosition: Texas Ride Captain \n\nNote: You do not have to own/ride a motorcycle or be a veteran to join\, and membership is Free. The only requirement is RESPECT! To subscribe to receive mission notices\, log into the National Site and click on the Members tab at the top. Select the Subscribe to PGR Missions option.\n Print This Page
URL:https://www.patriotguard.org/mission/diego-armando-ramirez/
CATEGORIES:Honor Mission
END:VEVENT
END:VCALENDAR