BEGIN:VCALENDAR
VERSION:2.0
PRODID:-//Patriot Guard Riders - ECPv5.6.0//NONSGML v1.0//EN
CALSCALE:GREGORIAN
METHOD:PUBLISH
X-WR-CALNAME:Patriot Guard Riders
X-ORIGINAL-URL:https://www.patriotguard.org
X-WR-CALDESC:Events for Patriot Guard Riders
BEGIN:VTIMEZONE
TZID:America/New_York
BEGIN:DAYLIGHT
TZOFFSETFROM:-0500
TZOFFSETTO:-0400
TZNAME:EDT
DTSTART:20160313T070000
END:DAYLIGHT
BEGIN:STANDARD
TZOFFSETFROM:-0400
TZOFFSETTO:-0500
TZNAME:EST
DTSTART:20161106T060000
END:STANDARD
END:VTIMEZONE
BEGIN:VEVENT
DTSTART;TZID=America/New_York:20160705T090000
DTEND;TZID=America/New_York:20160705T110000
DTSTAMP:20210513T001115
CREATED:20160705T130000Z
LAST-MODIFIED:20191201T144630Z
UID:410871-1467709200-1467716400@www.patriotguard.org
SUMMARY:Dick Jones\, 71
DESCRIPTION:Dick Jones\, 71\nUS Navy Veteran\nSterling\, CO\n05 JUL 16\n\n\n\nThe Patriot Guard Riders have been invited to stand in honor at the Funeral and Interment Services for Dick Jones on Tuesday\, July 5\, 2016 at the Chaney – Reager Funeral Home\, 443 South 2nd Street\, Sterling\, CO at 10:30AM and Riverside Cemetery\, 18611 US Highway 6\, Sterling\, CO at approximately 11:15AM. \nMr. Jones was born on February 26\, 1945 and died on June 28\, 2016 at the age of 71. He was a Veteran of the United States Navy. \nMilitary Honors will be rendered at the Gravesite Service at Riverside Cemetery\, 18611 US Highway 6\, Sterling\, CO. \nThe Service will begin immediately following the Funeral Service\, at approximately 11:15AM. \nParticipating in the Military Honors will be the Holyoke Veterans Club\, American Legion Post 90 and VFW Post 6482. \n9:15AM – Stage at the Chaney – Reager Funeral Home\, 443 South 2nd Street \n9:30AM – Mission Briefing \n9:45AM – Form Flag Line at the entrance to the Funeral Home. \nJay Weisgerber will serve as Ride Captain and will also bring Flags. \nContact:\nJim “Pie Man” Herstein\njwherst@aol.com
URL:https://www.patriotguard.org/mission/dick-jones-71/
CATEGORIES:Archive
END:VEVENT
END:VCALENDAR