BEGIN:VCALENDAR
VERSION:2.0
PRODID:-//Patriot Guard Riders - ECPv5.3.2.1//NONSGML v1.0//EN
CALSCALE:GREGORIAN
METHOD:PUBLISH
X-WR-CALNAME:Patriot Guard Riders
X-ORIGINAL-URL:https://www.patriotguard.org
X-WR-CALDESC:Events for Patriot Guard Riders
BEGIN:VTIMEZONE
TZID:America/New_York
BEGIN:DAYLIGHT
TZOFFSETFROM:-0500
TZOFFSETTO:-0400
TZNAME:EDT
DTSTART:20190310T070000
END:DAYLIGHT
BEGIN:STANDARD
TZOFFSETFROM:-0400
TZOFFSETTO:-0500
TZNAME:EST
DTSTART:20191103T060000
END:STANDARD
END:VTIMEZONE
BEGIN:VEVENT
DTSTART;VALUE=DATE:20190527
DTEND;VALUE=DATE:20190528
DTSTAMP:20210405T020518
CREATED:20190526T040005Z
LAST-MODIFIED:20190526T040158Z
UID:162348-1558915200-1559001599@www.patriotguard.org
SUMMARY:Dexter Lovett
DESCRIPTION:Honor Mission\nDexter Lovett\, Veteran\nUSA\nNacogdoches\, Texas – 05-27-19\n\n\n \n\nABOUT THE MISSION: \nMr. Lovett achieved the rank of E-5 and was Honorably discharged in 1966.  More information may be available at briefing.\n\n\nPRIMARY STAGING DETAILS: 05-27-19 \nStaging Time: 9:00 AM\n \nLaird Funeral Home\n2116 South St\nNacogdoches\, Texas 75964\nMap\n\n\nRide Captain: \nBill Parrish\n903-926-1962\nbparrish4x4@gmail.com\n\n\nSpecial Instructions: \nRiders meeting: 9:45 am.\nThis Mission will be a Flag Line Only\nPlease remain flexible as to the requirements of the mission. (SEMPER GUMBY)\nWeather Report: high will be close to 90*\nPlease hydrate often\, including the night before.  Carry rain gear if needed.\n\nFlags & Water:\nFlags will be provided\nLarge Bike Flags will NOT be needed.\nWater will be provided.\n\n\n\nSubmitted By: Michael Eubank \nPosition: Texas Deputy State Captain \n\nNote: You do not have to own/ride a motorcycle or be a veteran to join\, and membership is Free. The only requirement is RESPECT! To subscribe to receive mission notices\, log into the National Site and click on the Members tab at the top. Select the Subscribe to PGR Missions option.\n Print This Page
URL:https://www.patriotguard.org/mission/dexter-lovett/
CATEGORIES:Honor Mission
END:VEVENT
END:VCALENDAR