BEGIN:VCALENDAR
VERSION:2.0
PRODID:-//Patriot Guard Riders - ECPv5.3.2.1//NONSGML v1.0//EN
CALSCALE:GREGORIAN
METHOD:PUBLISH
X-WR-CALNAME:Patriot Guard Riders
X-ORIGINAL-URL:https://www.patriotguard.org
X-WR-CALDESC:Events for Patriot Guard Riders
BEGIN:VTIMEZONE
TZID:America/New_York
BEGIN:DAYLIGHT
TZOFFSETFROM:-0500
TZOFFSETTO:-0400
TZNAME:EDT
DTSTART:20190310T070000
END:DAYLIGHT
BEGIN:STANDARD
TZOFFSETFROM:-0400
TZOFFSETTO:-0500
TZNAME:EST
DTSTART:20191103T060000
END:STANDARD
END:VTIMEZONE
BEGIN:VEVENT
DTSTART;VALUE=DATE:20190626
DTEND;VALUE=DATE:20190627
DTSTAMP:20210405T031838
CREATED:20190626T020045Z
LAST-MODIFIED:20191127T073154Z
UID:165845-1561507200-1561593599@www.patriotguard.org
SUMMARY:Dewey Wilson Ratcliff Sr.
DESCRIPTION:Honor Mission\nCpl Dewey Wilson Ratcliff Sr.\, Veteran\nUSA –\nNorth Little Rock\, Arkansas – 06-26-19\n\n\n\nABOUT THE MISSION: \nThe family Cpl. Dewey Wilson Ratcliff\, Sr. has asked the Patriot Guard Riders to stand for their loved one at his last mission. He served in the United States Army. He is survived by one son\, three sisters\, three grandchildren and one great grandchild. Pall bearers will be members of the CVMA 7-1.\n\n\nPRIMARY STAGING DETAILS: 06-26-19 \nStaging Time: 10:30 AM\n \nArkansas State Veterans Cemetery\n1501 W. Maryland Ave.\nNorth Little Rock\, Arkansas\n\n\nRide Captain: \nMartha Mayland\n501-416-1194\n\n\nSpecial Instructions: \nStaging and Briefing: 10:30 am\nFlag Line and Plaque presentation at 11:00 a.m. service\, ASVC committal shelter.\n\n\nFlags & Water:\nFlags will be provided\nLarge Bike Flags will NOT be needed.\nWater WILL NOT be provided\, please bring your own.\n\n\n\nSubmitted By: Martha Mayland \nPosition: Arkansas Ride Captain \n\nNote: You do not have to own/ride a motorcycle or be a veteran to join\, and membership is Free. The only requirement is RESPECT! To subscribe to receive mission notices\, log into the National Site and click on the Members tab at the top. Select the Subscribe to PGR Missions option.\n Print This Page
URL:https://www.patriotguard.org/mission/dewey-wilson-ratcliff-sr/
CATEGORIES:Honor Mission
END:VEVENT
END:VCALENDAR