BEGIN:VCALENDAR
VERSION:2.0
PRODID:-//Patriot Guard Riders - ECPv5.3.2.1//NONSGML v1.0//EN
CALSCALE:GREGORIAN
METHOD:PUBLISH
X-WR-CALNAME:Patriot Guard Riders
X-ORIGINAL-URL:https://www.patriotguard.org
X-WR-CALDESC:Events for Patriot Guard Riders
BEGIN:VTIMEZONE
TZID:America/New_York
BEGIN:DAYLIGHT
TZOFFSETFROM:-0500
TZOFFSETTO:-0400
TZNAME:EDT
DTSTART:20190310T070000
END:DAYLIGHT
BEGIN:STANDARD
TZOFFSETFROM:-0400
TZOFFSETTO:-0500
TZNAME:EST
DTSTART:20191103T060000
END:STANDARD
END:VTIMEZONE
BEGIN:VEVENT
DTSTART;VALUE=DATE:20190629
DTEND;VALUE=DATE:20190630
DTSTAMP:20210405T061052
CREATED:20190626T173648Z
LAST-MODIFIED:20190626T173648Z
UID:165941-1561766400-1561852799@www.patriotguard.org
SUMMARY:Dewayne Burke
DESCRIPTION:Honor Mission\nDewayne Burke \, Veteran\nUSA –\nSapulpa\, Oklahoma – 06-29-19\n\n\n\n\nABOUT THE MISSION: \nThe family of US Army Veteran\, Dewayne Burke has asked the PGR to stand a Flag Line at his services . PGR will accompany family from the Chapel to the Green Hill Cemetery Interment Shelter\, 400 E Teel Rd\, Sapulpa for burial. American Legion will do Military Honors\, PGR to present plaque and Invocation letters at the cemetery.\n\n\nPRIMARY STAGING DETAILS: 06-29-19 \nStaging Time: 08:45  \nSmith Funeral Home Chapel\n1208 S Main St\nSapulpa\, Oklahoma 74066\n\n\nRide Captain: \nRon Gudder\nrgudde2112@yahoo.com\n918-232-5647\n\n\nSpecial Instructions: \nMandatory Briefing: 9:00 Flag line: 9:30 Weather: Forecast high of 92 and sunny\n\nFlags & Water:\nFlags will be provided\nIf you have large bike flags\, please bring them.\nWater WILL NOT be provided\, please bring your own.\n\n\n\n\nSubmitted By: William Pennington \nPosition: Oklahoma Ride Captain \n\nNote: You do not have to own/ride a motorcycle or be a veteran to join\, and membership is Free. The only requirement is RESPECT! To subscribe to receive mission notices\, log into the National Site and click on the Members tab at the top. Select the Subscribe to PGR Missions option.\n Print This Page
URL:https://www.patriotguard.org/mission/dewayne-burke/
CATEGORIES:Honor Mission
END:VEVENT
END:VCALENDAR