BEGIN:VCALENDAR
VERSION:2.0
PRODID:-//Patriot Guard Riders - ECPv5.3.2.1//NONSGML v1.0//EN
CALSCALE:GREGORIAN
METHOD:PUBLISH
X-WR-CALNAME:Patriot Guard Riders
X-ORIGINAL-URL:https://www.patriotguard.org
X-WR-CALDESC:Events for Patriot Guard Riders
BEGIN:VTIMEZONE
TZID:America/New_York
BEGIN:DAYLIGHT
TZOFFSETFROM:-0500
TZOFFSETTO:-0400
TZNAME:EDT
DTSTART:20190310T070000
END:DAYLIGHT
BEGIN:STANDARD
TZOFFSETFROM:-0400
TZOFFSETTO:-0500
TZNAME:EST
DTSTART:20191103T060000
END:STANDARD
END:VTIMEZONE
BEGIN:VEVENT
DTSTART;VALUE=DATE:20190807
DTEND;VALUE=DATE:20190808
DTSTAMP:20210402T145917
CREATED:20190806T151326Z
LAST-MODIFIED:20190806T151326Z
UID:169810-1565136000-1565222399@www.patriotguard.org
SUMMARY:Designation ceremony of Taylor County as a Purple Heart County
DESCRIPTION:Dedication\nDesignation ceremony of Taylor County as a Purple Heart County\n–\nAbilene\, Texas – 08-07-19\n\n\n\nABOUT THE MISSION: \nThe following was copied from this article from the Mail Tribune from August 15\, 2015\, in which John E. Bircher III\, public relations director of the Military Order of the Purple Heart\, was quoted as saying the Purple Heart City designation is\, “an expression of gratitude to the sons and daughters of that community who gave their lives or were wounded in combat defending the freedoms that all Americans enjoy. Any city\, county\, state sports team\, or any other entity can become a “Purple Heart” entity.”\n\n\nPRIMARY STAGING DETAILS: 08-07-19 \nStaging Time: 8:30 am\n \nTaylor County Courthouse\n300 Oak St.Northeast side of the Courthouse\nAbilene\, Texas 79602\nMap\n\n\nRide Captain: \nRay Boyd\ncaptains@westtexaspgr.org\n\n\nSpecial Instructions: \nThe ceremony will be at the northeast side of the Courthouse.\n\nFlags & Water:\nFlags will be provided\nLarge Bike Flags will NOT be needed.\nWater WILL NOT be provided\, please bring your own.\n\n\n\nSubmitted By: Bert Simpson \nPosition: Texas Ride Captain \n\nNote: You do not have to own/ride a motorcycle or be a veteran to join\, and membership is Free. The only requirement is RESPECT! To subscribe to receive mission notices\, log into the National Site and click on the Members tab at the top. Select the Subscribe to PGR Missions option.\n Print This Page
URL:https://www.patriotguard.org/mission/designation-ceremony-of-taylor-county-as-a-purple-heart-county/
CATEGORIES:Dedication
END:VEVENT
END:VCALENDAR