BEGIN:VCALENDAR
VERSION:2.0
PRODID:-//Patriot Guard Riders - ECPv5.3.2.1//NONSGML v1.0//EN
CALSCALE:GREGORIAN
METHOD:PUBLISH
X-WR-CALNAME:Patriot Guard Riders
X-ORIGINAL-URL:https://www.patriotguard.org
X-WR-CALDESC:Events for Patriot Guard Riders
BEGIN:VTIMEZONE
TZID:America/New_York
BEGIN:DAYLIGHT
TZOFFSETFROM:-0500
TZOFFSETTO:-0400
TZNAME:EDT
DTSTART:20190310T070000
END:DAYLIGHT
BEGIN:STANDARD
TZOFFSETFROM:-0400
TZOFFSETTO:-0500
TZNAME:EST
DTSTART:20191103T060000
END:STANDARD
END:VTIMEZONE
BEGIN:VEVENT
DTSTART;VALUE=DATE:20190803
DTEND;VALUE=DATE:20190804
DTSTAMP:20210402T103029
CREATED:20190802T134739Z
LAST-MODIFIED:20190802T134739Z
UID:169367-1564790400-1564876799@www.patriotguard.org
SUMMARY:Derek Gregory Garcia
DESCRIPTION:Honor Mission\nDerek Gregory Garcia\, Veteran\nUSA – WoT\nPortales\, New Mexico – 08-03-19\n\n\n\nABOUT THE MISSION: \nThe Patriot Guard Riders of Eastern NM along with members from HPHD HOG will stand tall and silent for a fallen hero who proudly served his country. He stood for us; now it’s our turn to stand our flag line to honor him and his family. Derek was a 2014 graduate of Dora High School. He was a very patriotic young man. Derek was the district\, regional and State of New Mexico winner of the VFW Voice of Democracy in 2013. He also won a writing contest for the Daughters of the American Revolution. Upon graduation from high school\, Derek followed his patriotic desire and enlisted in the US Army. He was a Paratrooper SPC\, and was honorably discharged in Nov. of 2018. Derek served in the 502nd Infantry Regiment 173rd Airborne Division in Vecenza\, Italy. He participated in numerous missions while stationed overseas\, including Operation Enduring Freedom in the Ukraine. He had 38 career jumps as a paratrooper. He was a member of the 82nd Airborne Division at Ft. Bragg\, NC. Please take time to read his Obituary.\n\n\nPRIMARY STAGING DETAILS: 08-03-19 \nStaging Time: 09:45 AM\n \nCentral Christian Church\n1528 S Main Ave\nPortales\, New Mexico 88130\n\n\nRide Captain: \nDennis “Red Horse” Chalker\nCaptainredhorse.pgr@yahoo.com\n575-799-4030\n\n\nSpecial Instructions: \nThis is a single stage mission at the church only.\nWe’ll have a short briefing and stand our flag line at 1000 AM or as soon as family and friends arrive.\nWe will stand down when service begins at 1030 AM.\n\n\nFlags & Water:\nFlags will be provided\nLarge Bike Flags will NOT be needed.\nWater will be provided.\n\n\n\nSubmitted By: Dennis Chalker \nPosition: New Mexico Assistant State Captain \n\nNote: You do not have to own/ride a motorcycle or be a veteran to join\, and membership is Free. The only requirement is RESPECT! To subscribe to receive mission notices\, log into the National Site and click on the Members tab at the top. Select the Subscribe to PGR Missions option.\n Print This Page
URL:https://www.patriotguard.org/mission/derek-gregory-garcia/
CATEGORIES:Honor Mission
END:VEVENT
END:VCALENDAR