BEGIN:VCALENDAR
VERSION:2.0
PRODID:-//Patriot Guard Riders - ECPv5.6.0//NONSGML v1.0//EN
CALSCALE:GREGORIAN
METHOD:PUBLISH
X-WR-CALNAME:Patriot Guard Riders
X-ORIGINAL-URL:https://www.patriotguard.org
X-WR-CALDESC:Events for Patriot Guard Riders
BEGIN:VTIMEZONE
TZID:America/New_York
BEGIN:DAYLIGHT
TZOFFSETFROM:-0500
TZOFFSETTO:-0400
TZNAME:EDT
DTSTART:20160313T070000
END:DAYLIGHT
BEGIN:STANDARD
TZOFFSETFROM:-0400
TZOFFSETTO:-0500
TZNAME:EST
DTSTART:20161106T060000
END:STANDARD
END:VTIMEZONE
BEGIN:VEVENT
DTSTART;TZID=America/New_York:20160709T090000
DTEND;TZID=America/New_York:20160709T110000
DTSTAMP:20210512T210837
CREATED:20160709T130000Z
LAST-MODIFIED:20191201T144521Z
UID:410766-1468054800-1468062000@www.patriotguard.org
SUMMARY:Deputy Paul A Clark\, 55
DESCRIPTION:The Family of Sheriff Deputy Paul A. “Clubber” Clark (55 yrs.) has Requested the Patriot Guard for the Final Call of Their Loved One. \nDeputy Clark Served 7 Years with the Park Hills\, MO. Police Department and was Employed for the Last 18 Years with the St. Francois County Sheriff’s Department.  Deputy Clark Sustained Injuries when Struck by a Vehicle While He had Another Vehicle Stopped. \nUnder the Direction of:\nC.Z. Boyer & Son Funeral Home\n1116 N. Desloge Drive\nDesloge\, MO.  63601 \nSATURDAY\, JULY 9th.\,  2016 \nVisitation & Service at:\nSolid Rock Family Church\n126 Holly Tree Lane\nFarmington\, MO.  63640\n(So. Bound Outer Rd. Side of Hwy. 67) \nVisitation:  9:00 a.m. – 11:00 a.m.  (0900 – 1100 hrs.)\nService:  11:00 a.m.  (1100 hrs.) \nHonor Escort to the Hillview Memorial Gardens (Farmington\, MO.) for Interment. \nRCIC:\nS. Roger “Goose’ Dollinger\, SRC.\nsrdoll@charter.net \nFlags / Support:\nLaurie “Honeybee” Yager. \nStaging:  Solid Rock Church @ 9:30 a.m. (0930 hrs.) to Stake & Establish a Flag Line. \nWeather Predictions:  87° / Partly Cloudy / 20% Chance of Precip. / Travel & Dress Accordingly / HYDRATE.
URL:https://www.patriotguard.org/mission/deputy-paul-a-clark-55/
CATEGORIES:Archive
END:VEVENT
END:VCALENDAR