BEGIN:VCALENDAR
VERSION:2.0
PRODID:-//Patriot Guard Riders - ECPv5.3.2.1//NONSGML v1.0//EN
CALSCALE:GREGORIAN
METHOD:PUBLISH
X-WR-CALNAME:Patriot Guard Riders
X-ORIGINAL-URL:https://www.patriotguard.org
X-WR-CALDESC:Events for Patriot Guard Riders
BEGIN:VTIMEZONE
TZID:America/New_York
BEGIN:DAYLIGHT
TZOFFSETFROM:-0500
TZOFFSETTO:-0400
TZNAME:EDT
DTSTART:20190310T070000
END:DAYLIGHT
BEGIN:STANDARD
TZOFFSETFROM:-0400
TZOFFSETTO:-0500
TZNAME:EST
DTSTART:20191103T060000
END:STANDARD
END:VTIMEZONE
BEGIN:VEVENT
DTSTART;VALUE=DATE:20190624
DTEND;VALUE=DATE:20190625
DTSTAMP:20210405T134832
CREATED:20190622T212435Z
LAST-MODIFIED:20190810T063839Z
UID:165506-1561334400-1561420799@www.patriotguard.org
SUMMARY:Deontis T. Holmes
DESCRIPTION:Honor Mission\nDeontis T. Holmes\, Retired\nUSA – GW/ODS\, WoT\nPensacola\, Florida – 06-24-19\n\n\n\nABOUT THE MISSION: \nThe Patriot Guard has been invited by the family of SGT Deontis T. Holmes\, United States Army\, to stand in his honor and escort him to Barrancas National Cemetery. SGT Holmes honorably served in the United States Army from Nov 1996 until Nov 2016. SGT Holmes received the following awards: Bronze Star\, Afghanistan Campaign Medal(2)\, Iraq Campaign Medal(4)\, Army Commendation Medal(4)\, Army Achievement Medal((5)\, Army Good Conduct Award(5)\, National Defense Service Medal(2)\, GWoT Medal\, and spent 2 tours of duty in Iraq and 1 tour in Afghanistan\n\n\nPRIMARY STAGING DETAILS: 06-24-19 \nStaging Time: 7:15 AM\n \nMcDonald’s\n815 E. Cervantes Street\nPensacola\, Florida\n\n\nRide Captain: \nDarryl “Stew” Stewart\n(850) 380-2095\nstew99@bellsouth.net\n\n\nSpecial Instructions: \nNaval Air Station requires long sleeve shirts and trousers\, long-fingered gloves\, DOT approved helmets\, leather footwear covering the ankles and proper eye protection. This attire will always be worn at all times while riding aboard the base.\n\n8:00 AM – Safety brief for all riders\n8:15  AM – KSU to Joe Morris & Son Funeral Home\n8:30 AM – Arrival at Joe Morris & Son Funeral Home\n9:00 AM – Roll Time to Barrancas National Cemetery\n9:30 AM – Honors at Barrancas National Cemetery\n\nFlags & Water:\nFlags will be provided.\nIf you have large bike flags\, please bring them.\nWater will be provided.\n\n\nSubmitted By: Ray Doyle \nPosition: Florida Assistant State Captain \n\nNote: You do not have to own/ride a motorcycle or be a veteran to join\, and membership is Free. The only requirement is RESPECT! To subscribe to receive mission notices\, log into the National Site and click on the Members tab at the top. Select the Subscribe to PGR Missions option.\n Print This Page
URL:https://www.patriotguard.org/mission/deontis-t-holmes/
CATEGORIES:Honor Mission
END:VEVENT
END:VCALENDAR