BEGIN:VCALENDAR
VERSION:2.0
PRODID:-//Patriot Guard Riders - ECPv5.6.0//NONSGML v1.0//EN
CALSCALE:GREGORIAN
METHOD:PUBLISH
X-WR-CALNAME:Patriot Guard Riders
X-ORIGINAL-URL:https://www.patriotguard.org
X-WR-CALDESC:Events for Patriot Guard Riders
BEGIN:VTIMEZONE
TZID:America/New_York
BEGIN:DAYLIGHT
TZOFFSETFROM:-0500
TZOFFSETTO:-0400
TZNAME:EDT
DTSTART:20160313T070000
END:DAYLIGHT
BEGIN:STANDARD
TZOFFSETFROM:-0400
TZOFFSETTO:-0500
TZNAME:EST
DTSTART:20161106T060000
END:STANDARD
END:VTIMEZONE
BEGIN:VEVENT
DTSTART;TZID=America/New_York:20160615T090000
DTEND;TZID=America/New_York:20160615T110000
DTSTAMP:20210513T180213
CREATED:20160615T130000Z
LAST-MODIFIED:20191201T145113Z
UID:411300-1465981200-1465988400@www.patriotguard.org
SUMMARY:Denzil M. Roland\, 84\, USA\, Korea / Little Rock
DESCRIPTION:Denzil M. Roland 84\nSgt. US Army\nKorean War Veteran\nLittle Rock \, Arkansas\n15 JUN 2016\n\n\n\nIt has been requested by the family of Sgt. Denzil H. Roland for the Patriot Guard Riders to attend the service of their fallen Hero\, Mr. Roland served in the US Army  from 1952 to 1954 and served in the Korean conflict on the front lines in battle.  Later he was assigned to cook for the troops\, and he also has cooked for three Presidents\, (Truman\, Eisenhower\, and Clinton) and many state and local officials. For 65 years he was in the food business doing what he loved\, cooking for people. \nIt will be an Honor for the PGR to stand in respect for this Hero who has served our country and others with pride. \nFuneral Service is Provided By : Roller- Drummond Southwest Funeral Home\,  OBIT: www.rollerfuneralhomes.com \nStaging : 15 June 2016 ( Wed. ) 1145 Hrs.\nAt:\nRoller- Drummond Southwest Funeral Home\n10900 Interstate 30\nLittle Rock . Arkansas\n(West bound off I -30 on the service road) just before I- 430 ) \nBriefing: 1210 Hrs. (must attend the briefing to ride in escort) \nFlag Line: 1230 Hrs\, until commencement of service at 1300 Hrs.\n\nRespect Line: Following the service \nEscort:\nTo Pinecrest Memorial Park\n7401 Highway 5 N\nAlexander\, Arkansas\n\nFlag Line: For  remaining service at the grave site \nWater and Flags Provided.\nWeather: partly cloudy & 96* \nRC: Richard ” PaPaG ” Gentry\nrichardgentry188@yahoo.com\n501-416-0685
URL:https://www.patriotguard.org/mission/denzil-m-roland-84-usa-korea-little-rock/
CATEGORIES:Archive
END:VEVENT
END:VCALENDAR