BEGIN:VCALENDAR
VERSION:2.0
PRODID:-//Patriot Guard Riders - ECPv5.6.0//NONSGML v1.0//EN
CALSCALE:GREGORIAN
METHOD:PUBLISH
X-WR-CALNAME:Patriot Guard Riders
X-ORIGINAL-URL:https://www.patriotguard.org
X-WR-CALDESC:Events for Patriot Guard Riders
BEGIN:VTIMEZONE
TZID:America/New_York
BEGIN:DAYLIGHT
TZOFFSETFROM:-0500
TZOFFSETTO:-0400
TZNAME:EDT
DTSTART:20160313T070000
END:DAYLIGHT
BEGIN:STANDARD
TZOFFSETFROM:-0400
TZOFFSETTO:-0500
TZNAME:EST
DTSTART:20161106T060000
END:STANDARD
END:VTIMEZONE
BEGIN:VEVENT
DTSTART;TZID=America/New_York:20160808T090000
DTEND;TZID=America/New_York:20160808T110000
DTSTAMP:20210512T014052
CREATED:20160808T130000Z
LAST-MODIFIED:20191201T143806Z
UID:410101-1470646800-1470654000@www.patriotguard.org
SUMMARY:Denny L. Zahn\, USN Veteran / Cahokia\, IL
DESCRIPTION:Denny L. Zahn\nUS Navy Veteran\nCahokia IL / St Louis\, MO\n8 Aug 16\n\n\n\nThe family of Mr. Zahn has requested the Patriot Guard Riders to honor his service in the U.S. Navy. Mr. Zahn also was a former member of the Cahokia Lions Club. \nFUNERAL: Monday\, 8 August 2016 1:00 p.m.\nBraun Funeral Home\n3701 Falling Springs Road\nCahokia IL \nStaging: 11:00 a.m. \nMission Briefing: 11:05 a.m. (family arrival at 11:30 a.m.) \nFollowing the funeral service\, we will escort Mr. Zahn\, his family\, and friends to the hallowed grounds of Jefferson Barracks National Cemetery for his interment.  Appointment time is 2:30 p.m. \n**HYDRATE**  **HYDRATE** \nRemember Helmets required in Missouri. \nRide Captains:\nAl Colvin\n618-401-1628 \nArne “Fat Fred” Dahlgren\, with Flag Support
URL:https://www.patriotguard.org/mission/denny-l-zahn-usn-veteran-cahokia-il/
CATEGORIES:Archive
END:VEVENT
END:VCALENDAR