BEGIN:VCALENDAR
VERSION:2.0
PRODID:-//Patriot Guard Riders - ECPv5.6.0//NONSGML v1.0//EN
CALSCALE:GREGORIAN
METHOD:PUBLISH
X-WR-CALNAME:Patriot Guard Riders
X-ORIGINAL-URL:https://www.patriotguard.org
X-WR-CALDESC:Events for Patriot Guard Riders
BEGIN:VTIMEZONE
TZID:America/New_York
BEGIN:DAYLIGHT
TZOFFSETFROM:-0500
TZOFFSETTO:-0400
TZNAME:EDT
DTSTART:20160313T070000
END:DAYLIGHT
BEGIN:STANDARD
TZOFFSETFROM:-0400
TZOFFSETTO:-0500
TZNAME:EST
DTSTART:20161106T060000
END:STANDARD
END:VTIMEZONE
BEGIN:VEVENT
DTSTART;TZID=America/New_York:20160610T090000
DTEND;TZID=America/New_York:20160610T110000
DTSTAMP:20210513T141427
CREATED:20160610T130000Z
LAST-MODIFIED:20191201T145256Z
UID:411453-1465549200-1465556400@www.patriotguard.org
SUMMARY:Dennis W. Gibbs\, Sr.\, USN
DESCRIPTION:Confirmed Mission\nDennis W. Gibbs\, Sr.\nU.S. Navy Veteran – Vietnam\nKing\, WI \nFriday June 10\, 2016\n \n\nDennis W. Gibbs\, Sr. was born in Plum City\, WI in 1949 and left us on February 6\, 2016.  His family is gathering this week to finally lay Dennis to rest among his service comrades at the Central Wisconsin Veterans Memorial Cemetery.\n\nDennis was proud of his service as a Navy Seabee from November 1967 to November 1973 in which time he completed two tours to Vietnam. During his service\, Dennis received a National Defense Service Medal\, Vietnam Service Medal\, Vietnam Campaign Medal and the Combat Action Ribbon before being honorably discharge. \nHis family has invited us to join them as Dennis joins his fellow service men and women.   This is a committal ceremony only. \nCommittal Ceremony\nFriday June 10\, 2016\n2:30  p.m. \nCentral Wisconsin Veterans Memorial Cemetery\nN2665 County Road QQ\nKing\, WI 54946 \nFor those on motorcycles:\nThere is another service adjacent to this one and no motorcycles are NOT to enter the cemetery until the cemetery Ride Captain contacts the group at the Cenex Station and tells them to proceed. \nStaging\n1:00 p.m. \nCenex Gas Station (approx ½ mi west of cemetery)\nN2479 CR-QQ\nWaupaca\, WI 54981 \nEstimated KSU 2:00 p.m. \nMilitary Honors will be performed. \nRide Captain at cemetery is Mike Weaver skipatroldoc@gmail.com \nRide Captain at Cenex Tony Van Kampen  jan2347@yahoo.com
URL:https://www.patriotguard.org/mission/dennis-w-gibbs-sr-usn/
CATEGORIES:Archive
END:VEVENT
END:VCALENDAR