BEGIN:VCALENDAR
VERSION:2.0
PRODID:-//Patriot Guard Riders - ECPv5.3.2.1//NONSGML v1.0//EN
CALSCALE:GREGORIAN
METHOD:PUBLISH
X-WR-CALNAME:Patriot Guard Riders
X-ORIGINAL-URL:https://www.patriotguard.org
X-WR-CALDESC:Events for Patriot Guard Riders
BEGIN:VTIMEZONE
TZID:America/New_York
BEGIN:DAYLIGHT
TZOFFSETFROM:-0500
TZOFFSETTO:-0400
TZNAME:EDT
DTSTART:20130310T070000
END:DAYLIGHT
BEGIN:STANDARD
TZOFFSETFROM:-0400
TZOFFSETTO:-0500
TZNAME:EST
DTSTART:20131103T060000
END:STANDARD
END:VTIMEZONE
BEGIN:VEVENT
DTSTART;TZID=America/New_York:20130410T090000
DTEND;TZID=America/New_York:20130410T110000
DTSTAMP:20210403T013408
CREATED:20130410T130000Z
LAST-MODIFIED:20191201T120902Z
UID:386942-1365584400-1365591600@www.patriotguard.org
SUMMARY:Dennis Tindle\, USA Veteran
DESCRIPTION:The family of PFC Dennis Tindle\, US Army\, has called upon the Patriot Guard Riders to pay honors at his EOW. \nHIs wife\, Joyce\, wishes to have a flag line at his church services only\, on Wednesday April 10\, 2013 \nStaging:  10:15 am for the families arrival \nLiving Faith Christian Church\n1201 Greenwich Ave\nWarwick RI \nGo to the back building and park in the far left corner of the lot.  Flags will be on site \nRC:  Barbara “Wolfy” Dardeen – wolfee6102888@yahoo.com \nBarbara “Wolfy” Dardeen\nRhode Island State Captain
URL:https://www.patriotguard.org/mission/dennis-tindle-usa-veteran/
CATEGORIES:Archive
END:VEVENT
END:VCALENDAR