BEGIN:VCALENDAR
VERSION:2.0
PRODID:-//Patriot Guard Riders - ECPv5.6.0//NONSGML v1.0//EN
CALSCALE:GREGORIAN
METHOD:PUBLISH
X-WR-CALNAME:Patriot Guard Riders
X-ORIGINAL-URL:https://www.patriotguard.org
X-WR-CALDESC:Events for Patriot Guard Riders
BEGIN:VTIMEZONE
TZID:America/New_York
BEGIN:DAYLIGHT
TZOFFSETFROM:-0500
TZOFFSETTO:-0400
TZNAME:EDT
DTSTART:20160313T070000
END:DAYLIGHT
BEGIN:STANDARD
TZOFFSETFROM:-0400
TZOFFSETTO:-0500
TZNAME:EST
DTSTART:20161106T060000
END:STANDARD
END:VTIMEZONE
BEGIN:VEVENT
DTSTART;TZID=America/New_York:20160604T090000
DTEND;TZID=America/New_York:20160604T110000
DTSTAMP:20210513T170819
CREATED:20160604T130000Z
LAST-MODIFIED:20191201T145512Z
UID:411659-1465030800-1465038000@www.patriotguard.org
SUMMARY:Dennis Olsen
DESCRIPTION:We have been invited by the family of Dennis Olsen to honor his life and service to his country. We will stand a flag line at his funeral service to be held on Saturday 4 Jun 16 \, Webb Funeral Home\, 1005 South 8th East\, Preston\, Idaho. Services are at 1100 hrs. \nStaging: 1000 hrs\, Saturday 4 Jun 16\, Ransoms Country Store\, 711 South Highway 91\, Preston\, Idaho.\nBriefing/Updates: 1020 hrs\nKSU: 1025 hrs. Rides as a group to Funeral Home and set up flag line upon arrival. \nFollowing the service we will escort the funeral procession to the Preston Cemetery. \nRide Captain: Dave Kerr 208-851-2288 \n—\nDario J Bell\nIdaho State Captain
URL:https://www.patriotguard.org/mission/dennis-olsen/
CATEGORIES:Archive
END:VEVENT
END:VCALENDAR