BEGIN:VCALENDAR
VERSION:2.0
PRODID:-//Patriot Guard Riders - ECPv5.6.0//NONSGML v1.0//EN
CALSCALE:GREGORIAN
METHOD:PUBLISH
X-WR-CALNAME:Patriot Guard Riders
X-ORIGINAL-URL:https://www.patriotguard.org
X-WR-CALDESC:Events for Patriot Guard Riders
BEGIN:VTIMEZONE
TZID:America/New_York
BEGIN:DAYLIGHT
TZOFFSETFROM:-0500
TZOFFSETTO:-0400
TZNAME:EDT
DTSTART:20150308T070000
END:DAYLIGHT
BEGIN:STANDARD
TZOFFSETFROM:-0400
TZOFFSETTO:-0500
TZNAME:EST
DTSTART:20151101T060000
END:STANDARD
END:VTIMEZONE
BEGIN:VEVENT
DTSTART;TZID=America/New_York:20150505T090000
DTEND;TZID=America/New_York:20150505T110000
DTSTAMP:20210512T090134
CREATED:20150505T130000Z
LAST-MODIFIED:20191201T125404Z
UID:395159-1430816400-1430823600@www.patriotguard.org
SUMMARY:Dennis M. Hamann
DESCRIPTION:Dennis M. Hamann\nUS ARMY \nElkader\, Iowa\n5 May\, 2015\n\n\n\n\nThe Patriot Guard Riders have been invited by the family of Dennis M. Hamann\, US ARMYVeteran\, to participate in honoring his service to this Great Nation at his Funeral Services to be held on Tuesday\, May 5th\, 2015. \n\nSERVICE: 10:00 AM\, 5 May 2015\n\nRALLY POINT: Bethany Lutheran Church\, Elkader\, Iowa\nhttps://goo.gl/maps/g6CEV\n\nRALLY TIME: 8:15 AM\n\nMISSION BRIEF: 8:40 AM\n\nBURIAL: Garnavillo Community Cemetery\, Garnavillo\, Iowa\nhttps://goo.gl/maps/ainR8 \n\nRIDE CAPTAIN: \nScott Rathjens\n[URL=”tel:%28319%29310-0347″](319)310-0347[/URL]\nsdarath3@gmail.com
URL:https://www.patriotguard.org/mission/dennis-m-hamann/
CATEGORIES:Archive
END:VEVENT
END:VCALENDAR