BEGIN:VCALENDAR
VERSION:2.0
PRODID:-//Patriot Guard Riders - ECPv5.3.2.1//NONSGML v1.0//EN
CALSCALE:GREGORIAN
METHOD:PUBLISH
X-WR-CALNAME:Patriot Guard Riders
X-ORIGINAL-URL:https://www.patriotguard.org
X-WR-CALDESC:Events for Patriot Guard Riders
BEGIN:VTIMEZONE
TZID:America/New_York
BEGIN:DAYLIGHT
TZOFFSETFROM:-0500
TZOFFSETTO:-0400
TZNAME:EDT
DTSTART:20190310T070000
END:DAYLIGHT
BEGIN:STANDARD
TZOFFSETFROM:-0400
TZOFFSETTO:-0500
TZNAME:EST
DTSTART:20191103T060000
END:STANDARD
END:VTIMEZONE
BEGIN:VEVENT
DTSTART;VALUE=DATE:20190727
DTEND;VALUE=DATE:20190728
DTSTAMP:20210404T063853
CREATED:20190721T224203Z
LAST-MODIFIED:20190721T224203Z
UID:168450-1564185600-1564271999@www.patriotguard.org
SUMMARY:Dennis M. Clark
DESCRIPTION:Honor Mission\nDennis M. Clark\, Veteran\nUSN – Vietnam\nVancouver\, Washington – 07-27-19\n\n\n\nABOUT THE MISSION: \nLadies and Gentlemen\, the Patriot Guard Riders have been requested to ride and stand to honor the service of PNSN Dennis M. Clark\, United States Navy. PNSN Clark served our country from 1960-1966 as a Vietnam Veteran during which time he served aboard the USS Columbus and USS Ranger. During the Celebration of Life Services\, the Patriot Guard Riders and the Veterans of Foreign Wars Honor Guard shall provide PNSN Clark Full Military Honors. Please join with me as we honor PNSN Clark\, his family and community.\n\n\nPRIMARY STAGING DETAILS: 07-27-19 \nStaging Time: 12:15 PM\n \nANDERSON HALL\n750 Anderson Street (Ft Vancouver Way & McClellan)\nVancouver\, Washington 98661\n\n\nRide Captain: \nLynn Vaughn\nLynnVaughn515@comcast.net\n(360) 936-9576\n\n\nSpecial Instructions: \n12:15 – Stage/Sign-In\n12:45 – Briefing\n1:00 – KSU For Service Location\n1:20 – Establish Flagline\n2:00 – Service Begins\n2:30 – Debriefing\n\n\nFlags & Water:\nFlags will be provided\nIf you have large bike flags\, please bring them.\nWater WILL NOT be provided\, please bring your own.\n\n\n\nSubmitted By: LYNN VAUGHN \nPosition: Washington Ride Captain \n\nNote: You do not have to own/ride a motorcycle or be a veteran to join\, and membership is Free. The only requirement is RESPECT! To subscribe to receive mission notices\, log into the National Site and click on the Members tab at the top. Select the Subscribe to PGR Missions option.\n Print This Page
URL:https://www.patriotguard.org/mission/dennis-m-clark/
CATEGORIES:Honor Mission
END:VEVENT
END:VCALENDAR