BEGIN:VCALENDAR
VERSION:2.0
PRODID:-//Patriot Guard Riders - ECPv5.3.2.1//NONSGML v1.0//EN
CALSCALE:GREGORIAN
METHOD:PUBLISH
X-WR-CALNAME:Patriot Guard Riders
X-ORIGINAL-URL:https://www.patriotguard.org
X-WR-CALDESC:Events for Patriot Guard Riders
BEGIN:VTIMEZONE
TZID:America/New_York
BEGIN:DAYLIGHT
TZOFFSETFROM:-0500
TZOFFSETTO:-0400
TZNAME:EDT
DTSTART:20190310T070000
END:DAYLIGHT
BEGIN:STANDARD
TZOFFSETFROM:-0400
TZOFFSETTO:-0500
TZNAME:EST
DTSTART:20191103T060000
END:STANDARD
END:VTIMEZONE
BEGIN:VEVENT
DTSTART;VALUE=DATE:20190607
DTEND;VALUE=DATE:20190608
DTSTAMP:20210405T072706
CREATED:20190606T135207Z
LAST-MODIFIED:20190606T135207Z
UID:163776-1559865600-1559951999@www.patriotguard.org
SUMMARY:Dennis Lynn Ray
DESCRIPTION:Honor Mission\nDennis Lynn Ray\, Retired\nUSAF\nCuba\, Missouri – 06-07-19\n\n\n\n\nABOUT THE MISSION: \nDennis Lynn Ray of Clovis\, NM passed away on 2 June 2019 at the age of 65.  Master Sergeant (RET) Ray served his country with honor and distinction in the United States Air Force for 24 years.\n\n\nPRIMARY STAGING DETAILS: 06-07-19 \nStaging Time: 12:00 pm \nHutson Funeral Home\n407 S. Franklin\nCuba\, Missouri 65453\n\nRide Captain:\n\n\nJim “Radio Man” Boettcher\n573-453-0727\njimboettcher609@yahoo.com\n\n\nSpecial Instructions: \nStaging at 12:00 pm\nBriefing at 12:15 pm\nFlag Line from 12:30 pm to 1:00 pm\nEscort to Crossroads Cemetery in Leasburg following the 1:00 pm memorial service.\n\nFlags & Water:\nFlags will be provided\nLarge Bike Flags will NOT be needed.\nWater will be provided.\n\n\n\n\nSubmitted By: Mark Williams \nPosition: Missouri State Captain \n\nNote: You do not have to own/ride a motorcycle or be a veteran to join\, and membership is Free. The only requirement is RESPECT! To subscribe to receive mission notices\, log into the National Site and click on the Members tab at the top. Select the Subscribe to PGR Missions option.\n Print This Page
URL:https://www.patriotguard.org/mission/dennis-lynn-ray/
CATEGORIES:Honor Mission
END:VEVENT
END:VCALENDAR