BEGIN:VCALENDAR
VERSION:2.0
PRODID:-//Patriot Guard Riders - ECPv5.3.2.1//NONSGML v1.0//EN
CALSCALE:GREGORIAN
METHOD:PUBLISH
X-WR-CALNAME:Patriot Guard Riders
X-ORIGINAL-URL:https://www.patriotguard.org
X-WR-CALDESC:Events for Patriot Guard Riders
BEGIN:VTIMEZONE
TZID:America/New_York
BEGIN:DAYLIGHT
TZOFFSETFROM:-0500
TZOFFSETTO:-0400
TZNAME:EDT
DTSTART:20190310T070000
END:DAYLIGHT
BEGIN:STANDARD
TZOFFSETFROM:-0400
TZOFFSETTO:-0500
TZNAME:EST
DTSTART:20191103T060000
END:STANDARD
END:VTIMEZONE
BEGIN:VEVENT
DTSTART;VALUE=DATE:20190831
DTEND;VALUE=DATE:20190901
DTSTAMP:20210402T064636
CREATED:20190828T142445Z
LAST-MODIFIED:20190828T142445Z
UID:172164-1567209600-1567295999@www.patriotguard.org
SUMMARY:Dennis J Harris
DESCRIPTION:Honor Mission\nDennis J Harris\, Veteran\nUSA – Vietnam\nBastrop\, Louisiana – 08-31-19\n\n\n\nABOUT THE MISSION: \nPFC Dennis Harris served honorably during the Vietnam War\, spending his tours entirely at Fort Polk\, Louisiana. He answered his last call and his family has asked the Patriot Guard to stand for his service.\n\n\nPRIMARY STAGING DETAILS: 08-31-19 \nStaging Time: 9:00 am  \nMorehouse Baptist Educational Assoc.\n8420 Collinston Road (Hwy 593)\nBastrop\, Louisiana 71220\n\n\nRide Captain: \nMike “Sarge” Keen\n970-620-6404\n\n\nSpecial Instructions: \nFlags will be placed and we will stand respectfully before and during service. After service we will stand a respect line as he is removed from the church. There is NO ESCORT at this time. This can be a cage mission. Escort will follow on Tuesday Sept 3. See stage two details.\n\n\nFlags & Water:\nFlags will be provided\nLarge Bike Flags will NOT be needed.\nWater will be provided.\n\nSTAGING #2 DETAILS: 09-03-19 \nStaging Time: 10:00 am  \nTennant Funeral Home\n1014 Harrison Street\nRayville\, Louisiana 71269\n\n\nRide Captain: \nMike “Sarge” Keen\n970-620-0404\n\n\nSpecial Instructions: \nWe will assemble at Tennant Funeral home at 10 am and be ready for the procession to leave at 10:45 sharp to proceed with LEO escort to the Northeast Louisiana Veterans Cemetery in 425 south of Rayville\, 5 mile escort. There we will stand for the interment service.\n\n\nFlags & Water:\nFlags will be provided\nIf you have large bike flags\, please bring them.\nWater will be provided.\n\nSubmitted By: Buck Harper \nPosition: Louisiana Ride Captain \n\nNote: You do not have to own/ride a motorcycle or be a veteran to join\, and membership is Free. The only requirement is RESPECT! To subscribe to receive mission notices\, log into the National Site and click on the Members tab at the top. Select the Subscribe to PGR Missions option.\n Print This Page
URL:https://www.patriotguard.org/mission/dennis-j-harris/2019-08-31/
CATEGORIES:Honor Mission
END:VEVENT
END:VCALENDAR