BEGIN:VCALENDAR
VERSION:2.0
PRODID:-//Patriot Guard Riders - ECPv5.3.2.1//NONSGML v1.0//EN
CALSCALE:GREGORIAN
METHOD:PUBLISH
X-WR-CALNAME:Patriot Guard Riders
X-ORIGINAL-URL:https://www.patriotguard.org
X-WR-CALDESC:Events for Patriot Guard Riders
BEGIN:VTIMEZONE
TZID:America/New_York
BEGIN:DAYLIGHT
TZOFFSETFROM:-0500
TZOFFSETTO:-0400
TZNAME:EDT
DTSTART:20190310T070000
END:DAYLIGHT
BEGIN:STANDARD
TZOFFSETFROM:-0400
TZOFFSETTO:-0500
TZNAME:EST
DTSTART:20191103T060000
END:STANDARD
END:VTIMEZONE
BEGIN:VEVENT
DTSTART;VALUE=DATE:20190702
DTEND;VALUE=DATE:20190704
DTSTAMP:20210403T182556
CREATED:20190629T212535Z
LAST-MODIFIED:20190629T212535Z
UID:166291-1562025600-1562198399@www.patriotguard.org
SUMMARY:DENNIS EARL BUCKLEY
DESCRIPTION:Honor Mission\nDennis Earl Buckley\, Retired\nUSAF – Vietnam\nFlorence\, Mississippi – 07-02-19\n\n\n Source: \n\nABOUT THE MISSION: \nMSgt Buckley proudly and honorably served in U.S. Air Force from 1974 to 1991 as a highly decorated Aircraft Armament System Technician with 27th AGS (Tactical Air Command).\nDuring this time\, his medals and badges include Air Force Commendation medal\, Air Force Achievement Medal\, Distinguished-Presidential Unit Citation with one Bronze Oak Leaf\, Air Force Outstanding Unit Award ribbon with Valor Device and three Bronze Oak Leaf Clusters\, Air Force Good Conduct Medal with one Silver Oak Leaf\, National Defense Service Medal with one Bronze Oak Leaf\, Vietnam Service Medal with two Bronze Campaign Stars\, overseas Short Tour Ribbon with one Bronze Oak Leaf cluster\, Air Force Overseas Long Tour Ribbon\, Air Force Longevity Service award Ribbon with four Bronze Oak Leaf Clusters\, NCO Professional Military Education Graduation Ribbon with one Bronze Oak Leaf\, Small Arms Expert Marksmanship Ribbon\, Air Force Training Ribbon\, Philippine Presidential Unit Citation\, Republic of Vietnam Gallantry Cross with Device and the Republic of Vietnam Campaign Medal.\n\n\nPRIMARY STAGING DETAILS: 07-02-19 \nStaging Time: 4:30 pm\n \nChancellor Funeral Home\n2576 Highway 49 South\nFlorence\, Mississippi 39073\n\n\nRide Captain: \n Keith (Papa Bear) Grantham\n601-503-3773\n\n\nSpecial Instructions: \nVisitation will be from 5:00 pm to 8:00 pm on Tuesday.\n\n\nFlags & Water:\nFlags will be provided\nLarge Bike Flags will NOT be needed.\nWater WILL NOT be provided\, please bring your own.\n\nSTAGING #2 DETAILS: 07-03-19 \nStaging Time: 9:30 am\n \nChancellor Funeral Home\n2576 Highway 49 South\nFlorence\, Mississippi 39073\n\n\nRide Captain: \n Keith (Papa Bear) Grantham\n601-503-3773\n\n\nSpecial Instructions: \nVisitation will be from 10:00 am until 11:00 am and services will begin at 11:00 am.\nPGR will stand a silent U.S. Flag Line.\nBurial will follow in Chancellor’s Garden of Memories.\nThere will be no escort.\n\n\nFlags & Water:\nFlags will be provided\nLarge Bike Flags will NOT be needed.\nWater WILL NOT be provided\, please bring your own.\n\n\n\nSubmitted By: Keith Grantham \nPosition: Mississippi Assistant State Captain \n\nNote: You do not have to own/ride a motorcycle or be a veteran to join\, and membership is Free. The only requirement is RESPECT! To subscribe to receive mission notices\, log into the National Site and click on the Members tab at the top. Select the Subscribe to PGR Missions option.\n Print This Page
URL:https://www.patriotguard.org/mission/dennis-earl-buckley/
CATEGORIES:Honor Mission
END:VEVENT
END:VCALENDAR