BEGIN:VCALENDAR
VERSION:2.0
PRODID:-//Patriot Guard Riders - ECPv5.6.0//NONSGML v1.0//EN
CALSCALE:GREGORIAN
METHOD:PUBLISH
X-WR-CALNAME:Patriot Guard Riders
X-ORIGINAL-URL:https://www.patriotguard.org
X-WR-CALDESC:Events for Patriot Guard Riders
BEGIN:VTIMEZONE
TZID:America/New_York
BEGIN:DAYLIGHT
TZOFFSETFROM:-0500
TZOFFSETTO:-0400
TZNAME:EDT
DTSTART:20160313T070000
END:DAYLIGHT
BEGIN:STANDARD
TZOFFSETFROM:-0400
TZOFFSETTO:-0500
TZNAME:EST
DTSTART:20161106T060000
END:STANDARD
END:VTIMEZONE
BEGIN:VEVENT
DTSTART;TZID=America/New_York:20160713T090000
DTEND;TZID=America/New_York:20160713T110000
DTSTAMP:20210512T213028
CREATED:20160713T130000Z
LAST-MODIFIED:20191201T144400Z
UID:410644-1468400400-1468407600@www.patriotguard.org
SUMMARY:Dennis Charles Pressley Jr\, USA\, Vietnam / Greenwich
DESCRIPTION:Please note that due to ongoing OPSEC concerns\, mission details are not shown in this posting. All specific details and updates have been sent to members directly via their e-mail address on file. \nThe wife of Rev. Dennis Charles Pressley Jr. has requested the participation of the Patriot Guard Riders in the military honors funeral and escort for her husband. \nWHEN / WHERE:\nWednesday July 13th \nGreenwich\, NY \nStage at 10:15 am flag line for the arrival of family and friends\, service starts at 11:00 am. After service and dignified transfer light refreshments will be served to all then 1:15 escort to; \nSchuylerville\, NY\nService in Shelter #2 at 2 pm\nThose going only to Saratoga stage at 1:45 pm \nLRC: Bruce Barger\nbbarger103@aol.com \nAbout the mission:\nReverend Pressley served his country from 1969-72.  He was stationed in Germany and Vietnam. The Patriot Guard Riders will be there to render Honor Dignity and Respect to for another victim of the Vietnam War. From the obituary\, Dennis served in the US Army in Vietnam and became an ordained pastor in 1977. He began his ministry as a youth pastor of Bethel Tabernacle in Mt. Ephraim\, pastor of the Gloucester Assembly of God in Gloucester\, NY\, the Newcomb Assembly of God in Newcomb\, NY\, and the Kitzmiller Assembly of God\, in Kitzmiller\, MD. \nHe became an Episcopal priest in the Diocese of Albany in 1999 and served as a priest for the Adirondack Mission\, as well as a chaplain at Albany Med\, St. Peter’s\, Glens Falls Hospital\, and the Sisters of St. Mary in Greenwich. \nHe loved his family\, sharing God’s Word\, spending time in the Adirondack’s hiking the high peaks with his buddy Joseph Bickford\, and his children. He touched many lives with his faith\, his gentle calm spirit and his love for everyone. He will be greatly missed. \nDan Nolin\nSenior RC\ndan1nolin@yahoo.com\n518-361-6410
URL:https://www.patriotguard.org/mission/dennis-charles-pressley-jr-usa-vietnam-greenwich/
CATEGORIES:Archive
END:VEVENT
END:VCALENDAR