BEGIN:VCALENDAR
VERSION:2.0
PRODID:-//Patriot Guard Riders - ECPv5.3.2.1//NONSGML v1.0//EN
CALSCALE:GREGORIAN
METHOD:PUBLISH
X-WR-CALNAME:Patriot Guard Riders
X-ORIGINAL-URL:https://www.patriotguard.org
X-WR-CALDESC:Events for Patriot Guard Riders
BEGIN:VTIMEZONE
TZID:America/New_York
BEGIN:DAYLIGHT
TZOFFSETFROM:-0500
TZOFFSETTO:-0400
TZNAME:EDT
DTSTART:20190310T070000
END:DAYLIGHT
BEGIN:STANDARD
TZOFFSETFROM:-0400
TZOFFSETTO:-0500
TZNAME:EST
DTSTART:20191103T060000
END:STANDARD
END:VTIMEZONE
BEGIN:VEVENT
DTSTART;VALUE=DATE:20190731
DTEND;VALUE=DATE:20190801
DTSTAMP:20210402T095707
CREATED:20190729T193122Z
LAST-MODIFIED:20190729T193122Z
UID:169105-1564531200-1564617599@www.patriotguard.org
SUMMARY:Delwood Claire Westfall
DESCRIPTION:Honor Mission\nDelwood Claire Westfall\, Veteran\nUSN\nPortland\, Oregon – 07-31-19\n\n\n\nABOUT THE MISSION: \nLadies and Gentlemen of the Patriot Guard Riders\, we have been invited to stand for Delwood Claire Westfall\, age 80. Delwood served in the US Navy from 10 November 1956 to 9 September 1959 on the USS Midway (CVA-41). Delwood was Honorably Discharged at the rate of Seaman (E3). Please join us as we pay our respects and honor his service to our nation.\n\n\nPRIMARY STAGING DETAILS: 07-31-19 \nStaging Time: 10:00 am\n \nWillamette National Cemetery\n11800 SE Mt Scott Blvd\nPortland\, Oregon 97086\n\n\nRide Captain: \nRob P. Herman\nrpherman@hotmail.com\n\n\nSpecial Instructions: \nBriefing: 10:20 am\nKSU: 10:30 am\nFlagline Set: 10:45 am\nService Begins: 11:00 am\n\nMeet up top at the Rostrum by the flagpole.\nPlease enter the cemetery through Gate 1 or 3 as the normal gate is under construction.\n*** There will be an RHG if possible ***\n\n\nFlags & Water:\n\n\nFlags will not be provided\nIf you have large bike flags\, please bring them.\nWater WILL NOT be provided\, please bring your own.\n\n\nSubmitted By: John Hanan II \nPosition: Oregon State Captain \n\nNote: You do not have to own/ride a motorcycle or be a veteran to join\, and membership is Free. The only requirement is RESPECT! To subscribe to receive mission notices\, log into the National Site and click on the Members tab at the top. Select the Subscribe to PGR Missions option.\n Print This Page
URL:https://www.patriotguard.org/mission/delwood-claire-westfall/
CATEGORIES:Honor Mission
END:VEVENT
END:VCALENDAR