BEGIN:VCALENDAR
VERSION:2.0
PRODID:-//Patriot Guard Riders - ECPv5.3.2.1//NONSGML v1.0//EN
CALSCALE:GREGORIAN
METHOD:PUBLISH
X-WR-CALNAME:Patriot Guard Riders
X-ORIGINAL-URL:https://www.patriotguard.org
X-WR-CALDESC:Events for Patriot Guard Riders
BEGIN:VTIMEZONE
TZID:America/New_York
BEGIN:DAYLIGHT
TZOFFSETFROM:-0500
TZOFFSETTO:-0400
TZNAME:EDT
DTSTART:20190310T070000
END:DAYLIGHT
BEGIN:STANDARD
TZOFFSETFROM:-0400
TZOFFSETTO:-0500
TZNAME:EST
DTSTART:20191103T060000
END:STANDARD
END:VTIMEZONE
BEGIN:VEVENT
DTSTART;VALUE=DATE:20190726
DTEND;VALUE=DATE:20190727
DTSTAMP:20210404T043139
CREATED:20190723T190202Z
LAST-MODIFIED:20190723T190202Z
UID:168583-1564099200-1564185599@www.patriotguard.org
SUMMARY:Delvin Lee Traphagen
DESCRIPTION:Honor Mission\nDelvin Lee Traphagen\nUSN – Vietnam\nMarana\, Arizona – 07-26-19\n\n\nABOUT THE MISSION:\n\nDelvin Traphagen was born one of four children on 30 September 1946. At the age of seventeen years and 11 months Del chose to enlist into the United States Navy. Machinist Mate Traphagen served on the USS Ranger for this great nation we live in until his honorable discharge in August of 1970. Machinist Mate Traphagen earned the National Defense Serve Medal. Machinist Mate Traphagen passed on 28 June 2019.\n\n\nPRIMARY STAGING DETAILS: 07-26-19 \nStaging Time: 12:00  \nR & R Pizza Parking Lot\n13905 N. Sandario Road\nMarana\, Arizona 85653\n\n\nRide Captain: \nRide Captain: Magoo 520-237-6691\nFlag Captain: DaFlagGuy 520-241-4530\n\n\nSpecial Instructions: \nBriefing: 12:10 PM\nKSU to Arizona Veterans Memorial Cemetery: 12:25 PM\n\n\nFlags & Water:\nFlags will be provided\nIf you have large bike flags\, please bring them.\nWater will be provided.\n\nSubmitted By: Robi Campbell \nPosition: Arizona Assistant State Captain \n\nNote: You do not have to own/ride a motorcycle or be a veteran to join\, and membership is Free. The only requirement is RESPECT! To subscribe to receive mission notices\, log into the National Site and click on the Members tab at the top. Select the Subscribe to PGR Missions option.\n Print This Page
URL:https://www.patriotguard.org/mission/delvin-lee-traphagen/
CATEGORIES:Honor Mission
END:VEVENT
END:VCALENDAR