BEGIN:VCALENDAR
VERSION:2.0
PRODID:-//Patriot Guard Riders - ECPv5.6.0//NONSGML v1.0//EN
CALSCALE:GREGORIAN
METHOD:PUBLISH
X-WR-CALNAME:Patriot Guard Riders
X-ORIGINAL-URL:https://www.patriotguard.org
X-WR-CALDESC:Events for Patriot Guard Riders
BEGIN:VTIMEZONE
TZID:America/New_York
BEGIN:DAYLIGHT
TZOFFSETFROM:-0500
TZOFFSETTO:-0400
TZNAME:EDT
DTSTART:20160313T070000
END:DAYLIGHT
BEGIN:STANDARD
TZOFFSETFROM:-0400
TZOFFSETTO:-0500
TZNAME:EST
DTSTART:20161106T060000
END:STANDARD
END:VTIMEZONE
BEGIN:VEVENT
DTSTART;TZID=America/New_York:20160720T090000
DTEND;TZID=America/New_York:20160720T110000
DTSTAMP:20210512T161816
CREATED:20160720T130000Z
LAST-MODIFIED:20191201T144223Z
UID:410494-1469005200-1469012400@www.patriotguard.org
SUMMARY:Delmas H. Bryant\, USA
DESCRIPTION:Delmas H. Bryant\nUS Army Vietnam Veteran\nBrockport\, NY\nWed July 20\, 2016\n\n\n\nPlease note that due to ongoing OPSEC concerns\, mission details are not shown in this posting. All specific details and updates have been sent to members directly via their e-mail address on file. \nMembers:\nPlease join me in honoring this Vietnam veteran on Wed 7/20/16. \nThis is the brother of Harold Bryant who is an active PGR member. His brother\, Delmas was a Private 1st Class in the Army and served in Vietnam between ’69 & ’71. \nWhen/Where:\nWednesday July 20\, 2016\nBrockport\, NY 14420 \nWe will stand an honorable flag line at the funeral home for his funeral and then escort this veteran and his family to his final resting place with Military Honors at Hillside Cemetery. \nHillside Cemetery\nHolley\, NY 14470 \nPlease bring a clean 3X5 flag. \nThank you for all you do! \nLRC\nJohn McMullen\njmcm79@aol.com
URL:https://www.patriotguard.org/mission/delmas-h-bryant-usa/
CATEGORIES:Archive
END:VEVENT
END:VCALENDAR