BEGIN:VCALENDAR
VERSION:2.0
PRODID:-//Patriot Guard Riders - ECPv5.3.2.1//NONSGML v1.0//EN
CALSCALE:GREGORIAN
METHOD:PUBLISH
X-WR-CALNAME:Patriot Guard Riders
X-ORIGINAL-URL:https://www.patriotguard.org
X-WR-CALDESC:Events for Patriot Guard Riders
BEGIN:VTIMEZONE
TZID:America/New_York
BEGIN:DAYLIGHT
TZOFFSETFROM:-0500
TZOFFSETTO:-0400
TZNAME:EDT
DTSTART:20190310T070000
END:DAYLIGHT
BEGIN:STANDARD
TZOFFSETFROM:-0400
TZOFFSETTO:-0500
TZNAME:EST
DTSTART:20191103T060000
END:STANDARD
END:VTIMEZONE
BEGIN:VEVENT
DTSTART;VALUE=DATE:20190907
DTEND;VALUE=DATE:20190908
DTSTAMP:20210401T083720
CREATED:20190828T142003Z
LAST-MODIFIED:20190904T232026Z
UID:172166-1567814400-1567900799@www.patriotguard.org
SUMMARY:Delmar Ray Grissom
DESCRIPTION:Honor Mission\nDelmar Ray Grissom\, POW/MIA\, KIA\nUSA – Korea\nCamas\, Washington – 09-07-19\n\n\n\nABOUT THE MISSION: \nThe Patriot Guard Riders will stand during the Recognition and Honor Service for United States Army Corporal\, Delmar Ray Grissom.\n\nOn 27 November 1950 CPL Grissom was assigned to K Company\, 3rd Battalion\, 35th Infantry Regiment\, 25th Infantry Division. During the battle of the Chongchon River in North Korea\, the 35th Regiment was in vigorous battle with the Chinese 39th Army. CPL Grissom was captured during the course of this moving battle on 28 November 1950. In all\, 73 men from the 35th Infantry were killed or became missing during this battle.\nThe American POWs went to holding camps and then marched on to Camp 5 on the south bank of the Yalu River North Korea. CPL Grissom however\, with a small group of his fellow POWs \, were marched farther west into China where they were interrogated for several days. Then they were taken back into North Korea and marched to Camp 5. CPL Grissom was exhausted\, and reportedly died of pneumonia in April 1951. CPL Grissom was buried at the edge of the camp by his companions.\n\nContinuing efforts to resolve Korean War loss cases by the Defense Prisoner of War Accounting Agency (DPAA) have Unfortunately\, not been able to locate the remains of US Army Corporal Delmar Ray Grissom. Please Join with us and stand during CPL Grissom’s Recognition and Honor Service to provide closure for his family and the Military Honors he so much deserves.\n\n\nPRIMARY STAGING DETAILS: 09-07-19 \nStaging Time: 10:00 am\n \nSafeway\n800 NE 3rd Ave\nCamas\, Washington 98607\n\n\nRide Captain: \nChuck Lashley\nchuck@lastruckrepair.com\n360-747-1958\n\nDonald (PeaceMaker) Gagnon\ndonaldgagnon30@yahoo.com\n\n\nSpecial Instructions: \n10:00 AM Staging/sign-in\n10:15 AM Briefing\n10:30 AM KSU to Mission location\, set flag line\n11:00 AM Service begins/ fade away after military honors\n11:30 AM Debrief\n\n\nFlags & Water:\nFlags will be provided\nIf you have large bike flags\, please bring them.\nWater WILL NOT be provided\, please bring your own.\n\n\nSubmitted By: chuck lashley \nPosition: Washington Ride Captain \n\nNote: You do not have to own/ride a motorcycle or be a veteran to join\, and membership is Free. The only requirement is RESPECT! To subscribe to receive mission notices\, log into the National Site and click on the Members tab at the top. Select the Subscribe to PGR Missions option.\n Print This Page
URL:https://www.patriotguard.org/mission/delmar-ray-grissom/
CATEGORIES:Honor Mission
END:VEVENT
END:VCALENDAR