BEGIN:VCALENDAR
VERSION:2.0
PRODID:-//Patriot Guard Riders - ECPv5.3.2.1//NONSGML v1.0//EN
CALSCALE:GREGORIAN
METHOD:PUBLISH
X-WR-CALNAME:Patriot Guard Riders
X-ORIGINAL-URL:https://www.patriotguard.org
X-WR-CALDESC:Events for Patriot Guard Riders
BEGIN:VTIMEZONE
TZID:America/New_York
BEGIN:DAYLIGHT
TZOFFSETFROM:-0500
TZOFFSETTO:-0400
TZNAME:EDT
DTSTART:20190310T070000
END:DAYLIGHT
BEGIN:STANDARD
TZOFFSETFROM:-0400
TZOFFSETTO:-0500
TZNAME:EST
DTSTART:20191103T060000
END:STANDARD
END:VTIMEZONE
BEGIN:VEVENT
DTSTART;VALUE=DATE:20190526
DTEND;VALUE=DATE:20190527
DTSTAMP:20210405T013950
CREATED:20190514T120842Z
LAST-MODIFIED:20190515T000117Z
UID:160990-1558828800-1558915199@www.patriotguard.org
SUMMARY:Dedication of WWII Merchant Marine and Navy Armed Guard Memorial
DESCRIPTION:Dedication\n\nDedication of WWII Merchant Marine and Navy Armed Guard Memorial  Veteran\nUSN\nCape Coral\, Florida  05-26-19\n\n\n \n\nABOUT THE MISSION: \nThe Patriot Guard Riders have been invited to stand a flag line at Echo Park for a dedication and memorial service. The park will be dedicating a WWII Merchant Marine and Navy Armed Guard Memorial.\nPlease bring your 3×5 American flags and stand in honor of this dedication.\n\n\nPRIMARY STAGING DETAILS: 05-26-19 \nStaging Time: 10:30 am  \nEcho Park\n2500 SE 24th Street\nCape Coral\, Florida 33990\n\n\nRide Captain: \nBlair McFarlane\nflockeydad@hotmail.com\n518-527-0588\n\n\nSpecial Instructions: \n10:30 am – Stage\n10:45 am – Brief\n11:30 am – Service\nFlag Line as determined by R/C\n\n\nFlags & Water:\nFlags will not be provided\nLarge Bike Flags will NOT be needed.\nWater WILL NOT be provided\, please bring your own.\n\n\n\nSubmitted By: Henry Hyde \nPosition: Florida Assistant State Captain \n\nNote: You do not have to own/ride a motorcycle or be a veteran to join\, and membership is Free. The only requirement is RESPECT! To subscribe to receive mission notices\, log into the National Site and click on the Members tab at the top. Select the Subscribe to PGR Missions option.\n Print This Page
URL:https://www.patriotguard.org/mission/dedication-of-wwii-merchant-marine-and-navy-armed-guard-memorial/
CATEGORIES:Dedication
END:VEVENT
END:VCALENDAR