BEGIN:VCALENDAR
VERSION:2.0
PRODID:-//Patriot Guard Riders - ECPv5.6.0//NONSGML v1.0//EN
CALSCALE:GREGORIAN
METHOD:PUBLISH
X-WR-CALNAME:Patriot Guard Riders
X-ORIGINAL-URL:https://www.patriotguard.org
X-WR-CALDESC:Events for Patriot Guard Riders
BEGIN:VTIMEZONE
TZID:America/New_York
BEGIN:DAYLIGHT
TZOFFSETFROM:-0500
TZOFFSETTO:-0400
TZNAME:EDT
DTSTART:20160313T070000
END:DAYLIGHT
BEGIN:STANDARD
TZOFFSETFROM:-0400
TZOFFSETTO:-0500
TZNAME:EST
DTSTART:20161106T060000
END:STANDARD
END:VTIMEZONE
BEGIN:VEVENT
DTSTART;TZID=America/New_York:20160616T090000
DTEND;TZID=America/New_York:20160616T110000
DTSTAMP:20210513T135017
CREATED:20160616T130000Z
LAST-MODIFIED:20191201T145130Z
UID:411327-1466067600-1466074800@www.patriotguard.org
SUMMARY:Dean Van Gundy\, USMC
DESCRIPTION:Dean Van Gundy\, USMC Korean Veteran\, Grand Junction\, CO\, 16 Jun 2016 \nWe have been invited to attend the Funeral of Sgt Dean Van Gundy\, Veteran US Marine Corps\, Korea\, 2 Purple Hearts. \nInterment 1300(1pm) 16 Jun at:\nVeterans Memorial Cemetery\n2830 Riverside Parkway\nGrand Junction\, CO \nStage 12:15pm at Shelter Area \nRide Captain Art Edwards\nAssist State Captain\nharleyroadk@yahoo.com
URL:https://www.patriotguard.org/mission/dean-van-gundy-usmc/
CATEGORIES:Archive
END:VEVENT
END:VCALENDAR