BEGIN:VCALENDAR
VERSION:2.0
PRODID:-//Patriot Guard Riders - ECPv5.6.0//NONSGML v1.0//EN
CALSCALE:GREGORIAN
METHOD:PUBLISH
X-WR-CALNAME:Patriot Guard Riders
X-ORIGINAL-URL:https://www.patriotguard.org
X-WR-CALDESC:Events for Patriot Guard Riders
BEGIN:VTIMEZONE
TZID:America/New_York
BEGIN:DAYLIGHT
TZOFFSETFROM:-0500
TZOFFSETTO:-0400
TZNAME:EDT
DTSTART:20160313T070000
END:DAYLIGHT
BEGIN:STANDARD
TZOFFSETFROM:-0400
TZOFFSETTO:-0500
TZNAME:EST
DTSTART:20161106T060000
END:STANDARD
END:VTIMEZONE
BEGIN:VEVENT
DTSTART;TZID=America/New_York:20160815T090000
DTEND;TZID=America/New_York:20160815T110000
DTSTAMP:20210511T202643
CREATED:20160815T130000Z
LAST-MODIFIED:20191201T143621Z
UID:409936-1471251600-1471258800@www.patriotguard.org
SUMMARY:Dayle Flier\, USA
DESCRIPTION:The family of Dayle Flier has requested the Patriot Guard to stand a flag line prior to his service and to provide and honor escort to Jefferson Barracks National Cemetery following his service. \nMr. Flier served in the Army from 1968 to 1970 and was a Vietnam Veteran. He was an Engine and Power Train Repairman and was discharged as an SP5. He earned the National Defense Service Medal\, The Vietnam Service Medal\, The Vietnam Campaign Medal\, and The Expert Marksman\, Rifle Medal. \nHe was also a proud Cleveland Dutchman Alumni\, class of 1965.\n\nStage: 11:00 am\, Monday\, August 15\, 2016\nHoffmeister South County Chapel\n1515 Lemay Ferry Rd.\nSt. Louis\, MO. 63129\nService: 12:30 pm \nJefferson Barracks slot: 2:00 pm \nRC/Flags\nDenny Dutchman Eads\n314-277-2821
URL:https://www.patriotguard.org/mission/dayle-flier-usa/
CATEGORIES:Archive
END:VEVENT
END:VCALENDAR