BEGIN:VCALENDAR
VERSION:2.0
PRODID:-//Patriot Guard Riders - ECPv5.3.2.1//NONSGML v1.0//EN
CALSCALE:GREGORIAN
METHOD:PUBLISH
X-WR-CALNAME:Patriot Guard Riders
X-ORIGINAL-URL:https://www.patriotguard.org
X-WR-CALDESC:Events for Patriot Guard Riders
BEGIN:VTIMEZONE
TZID:America/New_York
BEGIN:DAYLIGHT
TZOFFSETFROM:-0500
TZOFFSETTO:-0400
TZNAME:EDT
DTSTART:20170312T070000
END:DAYLIGHT
BEGIN:STANDARD
TZOFFSETFROM:-0400
TZOFFSETTO:-0500
TZNAME:EST
DTSTART:20171105T060000
END:STANDARD
END:VTIMEZONE
BEGIN:VEVENT
DTSTART;TZID=America/New_York:20170426T104500
DTEND;TZID=America/New_York:20170426T124500
DTSTAMP:20210404T142548
CREATED:20170426T144500Z
LAST-MODIFIED:20191201T033022Z
UID:332865-1493203500-1493210700@www.patriotguard.org
SUMMARY:Dawson County Hero Flight
DESCRIPTION:DAWSON COUNTY HERO FLIGHT \nLexington\, Nebraska – 26 Apr 2017\n\n[HR][/HR]\nABOUT THE MISSION: \nThe Patriot Guard Riders have been invited to stand a Flag Line for the third Dawson County Hero Flight send-off of 5 Air Force\, 11 Army\, 8 Navy and 1 National Guardsman. Vietnam veterans make up the bulk of the crew\, accounting for 17 of the 25\, with an additional 8 Korean War veterans. The Veterans will travel by bus from Lexington to Omaha for their flight to Washington D.C. \nPRIMARY STAGING DETAILS: 26 Apr 2017 \n \nPrimary Staging Time: 10:45 A.M.\n\nHeartland Museum of Military Vehicles\n606 Heartland RD (I-80 EXIT #283)\nNortheast corner of I-80 & HWY 283\n\nLexington\, Nebraska – 68850\n\n\n\n \nRide Captain:\n\nRide Captain: Jack Govier jggovier@yahoo.com 308-320-1552\nFlag Captain: Billy Rayburn rayburnb@unk.edu 308-440-4645\n\n \n\nSpecial Instructions:\n\n\nSTAGE TIME: 10:45 am \nRIDERS MEETING: 11:00 am \nFLAG LINE #1: 11:15 am – Noon \nMEAL & CEREMONY: Noon \nFLAG LINE #2: At the conclusion of the ceremony the flag line will reassemble outside to flank the bus loading corridor. \nBUS DEPARTS: No later than 2:00 pm \nEveryone is invited to cheer for our American Heroes as they board the bus. Motorcycle not need to participate in Patriot Guard Missions — Cages are always welcome \nThere may be an opportunity to provide a motorcycle escort for the bus to or towards Omaha as they travel eastward on I-80. \nThe group will be spending the night in Omaha and leave the following morning. Return is scheduled for late April 29. \nSafety being paramount – ride only if conditions permit. The Nebraska Patriot Guard Riders have been recognized by the National Safety Council and the Nebraska Office of Highway Safety for adhering to and promoting motorcycle safety. Ride Alert – Ride Safe. \nPlease monitor www.patriotguard.org “Welcome Home Rides / Help on the Homefront Rides” for changes and updates.\n \n\n\n\n\n\n\n\nFlags & Water:\n\nFlags Will Be Provided\n\nLarge Bike Flags will NOT be needed.\n\nWater WILL NOT be provided\, please bring your own.\n\n\nSubmitted By: Scott Knudsen\nPosition: State Captain \n[HR][/HR]\nNote:\nYou do not have to own/ride a motorcycle or be a Veteran to join and membership is Free. The only requirement is RESPECT! To join\, simply go to www.PatriotGuard.org and click on Register. Membership is Free. \nTo subscribe to receive mission notices\, log into the National Site and click on the Mission Tab at the top. Select Upcoming Missions by State. Scroll to the state(s) you would like to receive notices for and click on the green check mark. Detailed instructions are also located in the FAQs on the site by clicking on the Quick Links Tab and selecting FAQs.
URL:https://www.patriotguard.org/mission/dawson-county-hero-flight/
END:VEVENT
END:VCALENDAR